{"text_format":"1","workbook":"xlsx","n_sheets":13,"sheets":["PO Attainment","List of Students","T1","T1A","CAR1","T2","T2A ","CAR2","T3","T3A ","CAR3","FA","Imp. Analysis"],"not_rendered":{"charts":6,"images":2,"macros":1,"external_links":0,"defined_names":0,"comments":0,"pivot_tables":0},"unopened":[],"bounds":{"document_bytes":16777216,"sheet_cells":100000,"rows_first":2000,"rows_last":500,"rows_between":2000,"halvings":0,"cell_chars":16384,"cell_head_chars":4096},"cells_cut":0,"cells_raw":0,"read":"whole","date_system":"1900"}

{"sheet":"PO Attainment","index":0,"n_rows":176,"n_cols":59,"rows_kept":176,"cut":false,"hidden":false,"merged":[[15,33,16,34],[18,22,18,23],[19,22,19,23],[20,22,20,23],[21,22,21,23],[22,22,22,23],[23,22,23,23],[18,16,18,17],[19,16,19,17],[20,16,20,17],[21,16,21,17],[22,16,22,17],[23,16,23,17],[17,20,17,21],[20,20,20,21],[21,20,21,21],[22,20,22,21],[23,20,23,21],[19,10,19,11],[20,10,20,11],[21,10,21,11],[22,10,22,11],[23,10,23,11],[20,12,20,13],[21,12,21,13],[22,14,22,15],[23,14,23,15],[23,12,23,13],[21,3,21,6],[18,12,18,13],[18,14,18,15],[19,14,19,15],[20,14,20,15],[21,14,21,15],[120,22,120,23],[120,24,120,25],[119,18,119,19],[120,18,120,19],[118,1,118,12],[18,18,18,19],[19,18,19,19],[20,18,20,19],[21,18,21,19],[22,18,22,19],[23,18,23,19],[18,8,18,9],[19,8,19,9],[20,8,20,9],[21,8,21,9],[22,8,22,9],[23,8,23,9],[18,10,18,11],[3,3,3,5],[4,18,4,28],[115,1,115,25],[116,20,116,21],[116,22,116,23],[116,24,116,25],[117,20,117,21],[117,22,117,23],[117,24,117,25],[18,1,18,2],[19,1,19,2],[20,1,20,2],[18,3,18,6],[19,3,19,6],[20,3,20,6],[21,1,21,2],[26,27,26,28],[26,12,26,14],[26,8,26,10],[18,20,18,21],[19,20,19,21],[22,12,22,13],[4,10,4,17],[6,10,6,17],[25,0,27,0],[25,1,27,1],[25,2,27,2],[26,17,26,18],[26,19,26,20],[26,21,26,22],[26,23,26,24],[26,25,26,26],[115,47,115,48],[26,30,26,31],[25,30,25,31],[111,1,111,12],[112,1,112,12],[113,1,113,12],[110,1,110,12],[26,4,26,6],[25,4,25,15],[25,17,25,28],[116,47,116,48],[116,16,116,17],[116,18,116,19],[117,16,117,17],[118,16,118,17],[119,16,119,17],[118,20,118,21],[118,22,118,23],[118,24,118,25],[119,20,119,21],[119,22,119,23],[119,24,119,25],[117,18,117,19],[118,18,118,19],[125,48,125,49],[126,48,126,49],[141,20,141,24],[142,20,142,24],[133,8,133,10],[134,8,134,10],[135,8,135,10],[130,1,130,7],[131,1,131,7],[132,1,132,7],[133,1,133,7],[134,1,134,7],[135,1,135,7],[137,2,137,19],[137,20,137,24],[130,21,130,25],[131,21,131,25],[132,21,132,25],[133,21,133,25],[132,17,132,19],[133,17,133,19],[134,17,134,19],[135,17,135,19],[134,21,134,25],[158,2,158,3],[156,20,156,24],[157,20,157,24],[156,2,156,3],[157,2,157,3],[147,2,147,3],[143,20,143,24],[144,20,144,24],[145,20,145,24],[158,20,158,24],[120,20,120,21],[143,2,143,3],[144,2,144,3],[145,2,145,3],[120,13,120,15],[7,10,7,17],[17,1,17,2],[17,3,17,6],[17,24,17,28],[17,10,17,11],[17,8,17,9],[17,14,17,15],[17,22,17,23],[17,18,17,19],[17,16,17,17],[117,1,117,12],[130,12,130,16],[131,12,131,16],[132,12,132,16],[133,12,133,16],[134,12,134,16],[135,12,135,16],[130,17,130,19],[131,17,131,19],[4,2,4,6],[6,2,6,6],[7,2,7,6],[6,18,6,28],[7,18,7,28],[15,2,15,28],[9,2,9,28],[10,2,10,28],[11,2,11,28],[12,2,12,28],[5,2,5,6],[5,10,5,17],[5,18,5,28],[159,20,159,24],[159,2,159,3],[128,8,129,10],[130,8,130,10],[131,8,131,10],[132,8,132,10],[154,2,154,3],[155,2,155,3],[152,20,152,24],[153,20,153,24],[154,20,154,24],[155,20,155,24],[140,2,140,3],[139,2,139,3],[141,2,141,3],[142,2,142,3],[153,2,153,3],[152,2,152,3],[147,20,147,24],[139,20,139,24],[140,20,140,24],[146,20,146,24],[146,2,146,3],[128,12,129,19],[1,2,2,27],[123,17,123,19],[124,17,124,19],[125,17,125,19],[126,17,126,19],[122,1,122,19],[123,1,123,16],[124,1,124,16],[125,1,125,16],[126,1,126,16],[119,1,119,12],[120,1,120,12],[120,16,120,17],[18,24,23,28],[23,1,23,2],[23,3,23,6],[13,2,13,28],[14,2,14,28],[17,12,17,13],[19,12,19,13],[116,13,116,15],[117,13,117,15],[118,13,118,15],[119,13,119,15],[128,34,129,35],[135,21,135,25],[128,1,129,7],[128,21,129,30],[130,26,130,30],[131,26,131,30],[132,26,132,30],[133,26,133,30],[134,26,134,30],[135,26,135,30]]}
[]
[null,null,"Dr.T.Thimmaiah Institute of Technology          Oorgaum, K.G.F-563120"]
[null,null,null,null,null,null,null,null,null,null,null,null,null,null,null,null,null,null,null,null,null,null,null,null,null,null,null,null,null,null,null,null,null,null,null,null,null,null,null,null,null,null,null,null,null,null,null,null,null,null,null,null,null,null,null,null,null,"CO1","√"]
[null,null,null,null,null,null,null,null,null,null,null,null,null,null,null,null,null,null,null,null,null,null,null,null,null,null,null,null,null,null,null,null,null,null,null,null,null,null,null,null,null,null,null,null,null,null,null,null,null,null,null,null,null,null,null,null,null,"CO2","X"]
[null,"SEM","IV",null,null,null,null,null,null,null,"Course Instructor",null,null,null,null,null,null,null,"SHASHIKIRAN S",null,null,null,null,null,null,null,null,null,null,null,null,null,null,null,null,null,null,null,null,null,null,null,null,null,null,null,null,null,null,null,null,null,null,null,null,null,null,"CO3"]
[null,"Department","Electronics & Communication",null,null,null,null,null,null,null,"Designation",null,null,null,null,null,null,null,"Assistant Professor"]
[null,"Course","SIGNALS AND SYSTEMS",null,null,null,null,null,null,null,"Course code ",null,null,null,null,null,null,null,"18EC45",null,null,null,null,null,null,null,null,null,null,null,null,null,null,null,null,null,null,null,null,null,null,null,null,null,null,null,null,null,null,null,null,null,null,null,null,null,null,"CO4"]
[null,"Academic Year","2020-21",null,null,null,null,null,null,null,"Total Students",null,null,null,null,null,null,null,60,null,null,null,null,null,null,null,null,null,null,null,null,null,null,null,null,null,null,null,null,null,null,null,null,null,null,null,null,null,null,null,null,"Principal",null,null,null,null,null,"CO5"]
[null,null,null,null,null,null,null,null,null,null,null,null,null,null,null,null,null,null,null,null,null,null,null,null,null,null,null,null,null,null,null,null,null,null,null,null,null,null,null,null,null,null,null,null,null,null,null,null,null,null,null,"Vice Principal",null,null,null,null,null,"CO6"]
[null,"CO'S","Description",null,null,null,null,null,null,null,null,null,null,null,null,null,null,null,null,null,null,null,null,null,null,null,null,null,null,null,null,null,null,null,null,null,null,null,null,null,null,null,null,null,null,null,null,null,null,null,null,"Dean",null,null,"Mechanical"]
[null,"CO1","Sketch and analyze different types of signals and systems",null,null,null,null,null,null,null,null,null,null,null,null,null,null,null,null,null,null,null,null,null,null,null,null,null,null,null,null,null,null,null,null,null,null,null,null,null,null,null,null,null,null,null,null,null,null,null,null,"Professor",null,null,"Mining"]
[null,"CO2","Obtain the output for LTI systems using time domain and frequency domain representation",null,null,null,null,null,null,null,null,null,null,null,null,null,null,null,null,null,null,null,null,null,null,null,null,null,null,null,null,null,null,null,null,null,null,null,null,null,null,null,null,null,null,null,null,null,null,null,null,"Associate Professor",null,null,"Civil",null,"`"]
[null,"CO3","Analyze the performance of LTI system interms of impulse response",null,null,null,null,null,null,null,null,null,null,null,null,null,null,null,null,null,null,null,null,null,null,null,null,null,null,null,null,null,null,null,null,null,null,null,null,null,null,null,null,null,null,null,null,null,null,null,null,"Assistant Professor",null,null,"Electrical & Electronics"]
[null,"CO4","Analyze the performance of LTI system in frequency domain and the time domain using various transform",null,null,null,null,null,null,null,null,null,null,null,null,null,null,null,null,null,null,null,null,null,null,null,null,null,null,null,null,null,null,null,null,null,null,null,null,null,null,null,null,null,null,null,null,null,null,null,null,null,null,null,"Computer Science"]
[null,"CO5",null,null,null,null,null,null,null,null,null,null,null,null,null,null,null,null,null,null,null,null,null,null,null,null,null,null,null,null,null,null,null,null,null,null,null,null,null,null,null,null,null,null,null,null,null,null,null,null,null,null,null,null,"Electronics & Communication"]
[null,"CO6",null,null,null,null,null,null,null,null,null,null,null,null,null,null,null,null,null,null,null,null,null,null,null,null,null,null,null,null,null,null,null,"Reduction factors to be used",null,null,null,null,null,null,null,null,null,null,null,null,null,null,null,null,null,null,null,null,"Basic Science"]
[]
[null,"Grading Scale",null,"Level",null,null,null,null,"CO's",null,"T1",null,"T2",null,"T3",null,"A",null,"T",null,"Q",null,"Total Marks",null,"External Marks",null,null,null,null,null,null,null,null,"Internals","T/A/Q"]
[null,"Score < 40 ",null,0,null,null,null,null,"CO1",null,50,null,null,null,null,null,10,null,null,null,null,null,{"$f":"(K19+M19+O19)*$AH$19+(Q19+S19+U19)*$AI$19","v":50},null,50,null,null,null,null,null,null,null,null,0.8,1]
[null,{"$f":"\"Score 40 to < \" &D24-(D24-40)/2","v":"Score 40 to < 45"},null,1,null,null,null,null,"CO2",null,null,null,50,null,null,null,10,null,null,null,null,null,{"$f":"(K20+M20+O20)*$AH$19+(Q20+S20+U20)*$AI$19","v":50}]
[null,{"$f":"\"Score \"&D24-(D24-40)/2 &\" to < \"&D24","v":"Score 45 to < 50"},null,2,null,null,null,null,"CO3",null,null,null,null,null,20,null,null,null,null,null,null,null,16]
[null,{"$f":"\"Score > \"&D24","v":"Score > 50"},null,3,null,null,null,null,"CO4",null,null,null,null,null,30,null,10,null,null,null,null,null,34]
[null,null,null,null,null,null,null,null,"CO5",null,null,null,null,null,null,null,null,null,null,null,null,null,0]
[null,"Target Percentage",null,50,null,null,null,null,"CO6",null,null,null,null,null,null,null,null,null,null,null,null,null,0]
[]
["Sl No","USN","Students Name",null,"CO Marks in Tests",null,null,null,null,null,null,null,null,null,null,null,null,"Attainment of CO's",null,null,null,null,null,null,null,null,null,null,null,null,"VTU"]
[null,null,null,null,"Test 1",null,null,"A","Test 2",null,null,"A","Test 3",null,null,"A",null,"CO1",null,"CO2",null,"CO3",null,"CO4",null,"CO5",null,"CO6",null,null,"All CO"]
[null,null,null,null,"CO1","CO1","CO1","CO1","CO2","CO2","CO2","CO2","CO4","CO3","CO4","CO4",null,"M","%","M","%","M","%","M","%","M","%","M","%",null,"M","%"]
[1,"1GV19EC002","AKSHAYA K A",null,16,17,"10",10,"16","18","8",10,16,"9","9",10,null,{"$f":"SUM(0,IF($E$28=\"CO1\",E29*$AH$19),IF($F$28=\"CO1\",F29*$AH$19),IF($G$28=\"CO1\",G29*$AH$19),IF($H$28=\"CO1\",H29*$AI$19),IF($I$28=\"CO1\",I29*$AH$19),IF($J$28=\"CO1\",J29*$AH$19),IF($K$28=\"CO1\",K29*$AH$19),IF($L$28=\"CO1\",L29*$AI$19),IF($M$28=\"CO1\",M29*$AH$19),IF($N$28=\"CO1\",N29*$AH$19),IF($O$28=\"CO1\",O29*$AH$19),IF($P$28=\"CO1\",P29*$AI$19))","v":44.400000000000006},{"$f":"R29*100/$W$19","v":88.800000000000011},{"$f":"SUM(0,IF($E$28=\"CO2\",E29*$AH$19),IF($F$28=\"CO2\",F29*$AH$19),IF($G$28=\"CO2\",G29*$AH$19),IF($H$28=\"CO2\",H29*$AI$19),IF($I$28=\"CO2\",I29*$AH$19),IF($J$28=\"CO2\",J29*$AH$19),IF($K$28=\"CO2\",K29*$AH$19),IF($L$28=\"CO2\",L29*$AI$19),IF($M$28=\"CO2\",M29*$AH$19),IF($N$28=\"CO2\",N29*$AH$19),IF($O$28=\"CO2\",O29*$AH$19),IF($P$28=\"CO2\",P29*$AI$19))","v":43.6},{"$f":"T29*100/$W$20","v":87.2},{"$f":"SUM(0,IF($E$28=\"CO3\",E29*$AH$19),IF($F$28=\"CO3\",F29*$AH$19),IF($G$28=\"CO3\",G29*$AH$19),IF($H$28=\"CO3\",H29*$AI$19),IF($I$28=\"CO3\",I29*$AH$19),IF($J$28=\"CO3\",J29*$AH$19),IF($K$28=\"CO3\",K29*$AH$19),IF($L$28=\"CO3\",L29*$AI$19),IF($M$28=\"CO3\",M29*$AH$19),IF($N$28=\"CO3\",N29*$AH$19),IF($O$28=\"CO3\",O29*$AH$19),IF($P$28=\"CO3\",P29*$AI$19))","v":7.2},{"$f":"V29*100/$W$21","v":45},{"$f":"SUM(0,IF($E$28=\"CO4\",E29*$AH$19),IF($F$28=\"CO4\",F29*$AH$19),IF($G$28=\"CO4\",G29*$AH$19),IF($H$28=\"CO4\",H29*$AI$19),IF($I$28=\"CO4\",I29*$AH$19),IF($J$28=\"CO4\",J29*$AH$19),IF($K$28=\"CO4\",K29*$AH$19),IF($L$28=\"CO4\",L29*$AI$19),IF($M$28=\"CO4\",M29*$AH$19),IF($N$28=\"CO4\",N29*$AH$19),IF($O$28=\"CO4\",O29*$AH$19),IF($P$28=\"CO4\",P29*$AI$19))","v":30},{"$f":"X29*100/$W$22","v":88.235294117647058},{"$f":"SUM(0,IF($E$28=\"CO5\",E29*$AH$19),IF($F$28=\"CO5\",F29*$AH$19),IF($G$28=\"CO5\",G29*$AH$19),IF($H$28=\"CO5\",H29*$AI$19),IF($I$28=\"CO5\",I29*$AH$19),IF($J$28=\"CO5\",J29*$AH$19),IF($K$28=\"CO5\",K29*$AH$19),IF($L$28=\"CO5\",L29*$AI$19),IF($M$28=\"CO5\",M29*$AH$19),IF($N$28=\"CO5\",N29*$AH$19),IF($O$28=\"CO5\",O29*$AH$19),IF($P$28=\"CO5\",P29*$AI$19))","v":0},{"$f":"Z29*100/$W$23","v":{"$error":"#DIV/0!"}},{"$f":"SUM(0,IF($E$28=\"CO6\",E29*$AH$19),IF($F$28=\"CO6\",F29*$AH$19),IF($G$28=\"CO6\",G29*$AH$19),IF($H$28=\"CO6\",H29*$AI$19),IF($I$28=\"CO6\",I29*$AH$19),IF($J$28=\"CO6\",J29*$AH$19),IF($K$28=\"CO6\",K29*$AH$19),IF($L$28=\"CO6\",L29*$AI$19),IF($M$28=\"CO6\",M29*$AH$19),IF($N$28=\"CO6\",N29*$AH$19),IF($O$28=\"CO6\",O29*$AH$19),IF($P$28=\"CO6\",P29*$AI$19))","v":0},{"$f":"AB29*100/$W$24","v":{"$error":"#DIV/0!"}},null,"30",{"$f":"AE29*100/$Y$19","v":60}]
[2,"1GV19EC003","AVINASH BABU B",null,12,16,"8",10,"16","13","6",10,8,null,null,10,null,{"$f":"SUM(0,IF($E$28=\"CO1\",E30*$AH$19),IF($F$28=\"CO1\",F30*$AH$19),IF($G$28=\"CO1\",G30*$AH$19),IF($H$28=\"CO1\",H30*$AI$19),IF($I$28=\"CO1\",I30*$AH$19),IF($J$28=\"CO1\",J30*$AH$19),IF($K$28=\"CO1\",K30*$AH$19),IF($L$28=\"CO1\",L30*$AI$19),IF($M$28=\"CO1\",M30*$AH$19),IF($N$28=\"CO1\",N30*$AH$19),IF($O$28=\"CO1\",O30*$AH$19),IF($P$28=\"CO1\",P30*$AI$19))","v":38.800000000000004},{"$f":"R30*100/$W$19","v":77.600000000000009},{"$f":"SUM(0,IF($E$28=\"CO2\",E30*$AH$19),IF($F$28=\"CO2\",F30*$AH$19),IF($G$28=\"CO2\",G30*$AH$19),IF($H$28=\"CO2\",H30*$AI$19),IF($I$28=\"CO2\",I30*$AH$19),IF($J$28=\"CO2\",J30*$AH$19),IF($K$28=\"CO2\",K30*$AH$19),IF($L$28=\"CO2\",L30*$AI$19),IF($M$28=\"CO2\",M30*$AH$19),IF($N$28=\"CO2\",N30*$AH$19),IF($O$28=\"CO2\",O30*$AH$19),IF($P$28=\"CO2\",P30*$AI$19))","v":38},{"$f":"T30*100/$W$20","v":76},{"$f":"SUM(0,IF($E$28=\"CO3\",E30*$AH$19),IF($F$28=\"CO3\",F30*$AH$19),IF($G$28=\"CO3\",G30*$AH$19),IF($H$28=\"CO3\",H30*$AI$19),IF($I$28=\"CO3\",I30*$AH$19),IF($J$28=\"CO3\",J30*$AH$19),IF($K$28=\"CO3\",K30*$AH$19),IF($L$28=\"CO3\",L30*$AI$19),IF($M$28=\"CO3\",M30*$AH$19),IF($N$28=\"CO3\",N30*$AH$19),IF($O$28=\"CO3\",O30*$AH$19),IF($P$28=\"CO3\",P30*$AI$19))","v":0},{"$f":"V30*100/$W$21","v":0},{"$f":"SUM(0,IF($E$28=\"CO4\",E30*$AH$19),IF($F$28=\"CO4\",F30*$AH$19),IF($G$28=\"CO4\",G30*$AH$19),IF($H$28=\"CO4\",H30*$AI$19),IF($I$28=\"CO4\",I30*$AH$19),IF($J$28=\"CO4\",J30*$AH$19),IF($K$28=\"CO4\",K30*$AH$19),IF($L$28=\"CO4\",L30*$AI$19),IF($M$28=\"CO4\",M30*$AH$19),IF($N$28=\"CO4\",N30*$AH$19),IF($O$28=\"CO4\",O30*$AH$19),IF($P$28=\"CO4\",P30*$AI$19))","v":16.399999999999999},{"$f":"X30*100/$W$22","v":48.235294117647051},{"$f":"SUM(0,IF($E$28=\"CO5\",E30*$AH$19),IF($F$28=\"CO5\",F30*$AH$19),IF($G$28=\"CO5\",G30*$AH$19),IF($H$28=\"CO5\",H30*$AI$19),IF($I$28=\"CO5\",I30*$AH$19),IF($J$28=\"CO5\",J30*$AH$19),IF($K$28=\"CO5\",K30*$AH$19),IF($L$28=\"CO5\",L30*$AI$19),IF($M$28=\"CO5\",M30*$AH$19),IF($N$28=\"CO5\",N30*$AH$19),IF($O$28=\"CO5\",O30*$AH$19),IF($P$28=\"CO5\",P30*$AI$19))","v":0},{"$f":"Z30*100/$W$23","v":{"$error":"#DIV/0!"}},{"$f":"SUM(0,IF($E$28=\"CO6\",E30*$AH$19),IF($F$28=\"CO6\",F30*$AH$19),IF($G$28=\"CO6\",G30*$AH$19),IF($H$28=\"CO6\",H30*$AI$19),IF($I$28=\"CO6\",I30*$AH$19),IF($J$28=\"CO6\",J30*$AH$19),IF($K$28=\"CO6\",K30*$AH$19),IF($L$28=\"CO6\",L30*$AI$19),IF($M$28=\"CO6\",M30*$AH$19),IF($N$28=\"CO6\",N30*$AH$19),IF($O$28=\"CO6\",O30*$AH$19),IF($P$28=\"CO6\",P30*$AI$19))","v":0},{"$f":"AB30*100/$W$24","v":{"$error":"#DIV/0!"}},null,"10",{"$f":"AE30*100/$Y$19","v":20}]
[3,"1GV19EC005","BHARATH KUMAR R",null,14,8,"8",10,"12","12","4",10,6,null,null,10,null,34,68,32.400000000000006,64.800000000000011,0,0,14.8,43.529411764705884,0,{"$error":"#DIV/0!"},0,{"$error":"#DIV/0!"},null,14,28]
[4,"1GV19EC006","BHARGAVI S",null,15,19,"10",10,"18","18","8",10,19,"18","8",10,null,45.2,90.4,45.2,90.4,14.4,90,31.6,92.941176470588232,0,{"$error":"#DIV/0!"},0,{"$error":"#DIV/0!"},null,31,62]
[5,"1GV19EC007","CHAITHANYA K K V",null,11,15,"10",10,"16","18","8",10,7,"4","1",10,null,38.799999999999997,77.599999999999994,43.6,87.2,3.2,20,16.399999999999999,48.235294117647051,0,{"$error":"#DIV/0!"},0,{"$error":"#DIV/0!"},null,21,42]
[6,"1GV19EC008","DEEPAK R",null,12,12,null,10,"16","13","6",10,7,"14","4",10,null,29.200000000000003,58.400000000000006,38,76,11.200000000000001,70,18.8,55.294117647058826,0,{"$error":"#DIV/0!"},0,{"$error":"#DIV/0!"},null,21,42]
[7,"1GV19EC009","DIVYA PRIYA G R",null,16,15,"9",10,"20","18","9",10,19,"17","8",10,null,42,84,47.6,95.2,13.600000000000001,85.000000000000014,31.6,92.941176470588232,0,{"$error":"#DIV/0!"},0,{"$error":"#DIV/0!"},null,31,62]
[8,"1GV19EC010","DIVYA SWETHA J",null,17,18,"10",10,"20","18","9",10,19,"17","8",10,null,46,92,47.6,95.2,13.600000000000001,85.000000000000014,31.6,92.941176470588232,0,{"$error":"#DIV/0!"},0,{"$error":"#DIV/0!"},null,33,66]
[9,"1GV19EC011","EVANGELIN P",null,9,12,"8",10,"16","13","6",10,12,"9","4",10,null,33.200000000000003,66.400000000000006,38,76,7.2,45,22.8,67.058823529411768,0,{"$error":"#DIV/0!"},0,{"$error":"#DIV/0!"},null,17,34]
[10,"1GV19EC012","FARHEEN TAJ",null,16,15,"9",10,"16","18","8",10,19,"17","9",10,null,42,84,43.6,87.2,13.600000000000001,85.000000000000014,32.400000000000006,95.29411764705884,0,{"$error":"#DIV/0!"},0,{"$error":"#DIV/0!"},null,31,62]
[11,"1GV19EC014","HARISHAKTHI N",null,14,14,"8",10,"16","13","6",10,7,"11","5",10,null,38.800000000000004,77.600000000000009,38,76,8.8000000000000007,55.000000000000007,19.600000000000001,57.64705882352942,0,{"$error":"#DIV/0!"},0,{"$error":"#DIV/0!"},null,14,28]
[12,"1GV19EC015","JAISHNAVI U",null,14,12,"8",10,"16","13","6",10,13,"13","6",10,null,37.200000000000003,74.400000000000006,38,76,10.4,65,25.200000000000003,74.117647058823536,0,{"$error":"#DIV/0!"},0,{"$error":"#DIV/0!"},null,22,44]
[13,"1GV19EC017","KANISHA R",null,14,14,"8",10,"16","16","8",10,19,"18","6",10,null,38.800000000000004,77.600000000000009,42,84,14.4,90,30,88.235294117647058,0,{"$error":"#DIV/0!"},0,{"$error":"#DIV/0!"},null,28,56]
[14,"1GV19EC018","KAVYA RAJ",null,14,14,"8",10,"16","16","8",10,19,"12","3",10,null,38.800000000000004,77.600000000000009,42,84,9.6000000000000014,60.000000000000007,27.6,81.17647058823529,0,{"$error":"#DIV/0!"},0,{"$error":"#DIV/0!"},null,21,42]
[15,"1GV19EC019","KEERTHANA B S",null,12,12,"8",10,"16","16","8",10,13,"11","8",10,null,35.6,71.2,42,84,8.8000000000000007,55.000000000000007,26.8,78.82352941176471,0,{"$error":"#DIV/0!"},0,{"$error":"#DIV/0!"},null,19,38]
[16,"1GV19EC020","KRITHIKA A",null,6,14,"8",10,"16","14","0",10,5,"11",null,10,null,32.4,64.8,34,68,8.8000000000000007,55.000000000000007,14,41.176470588235297,0,{"$error":"#DIV/0!"},0,{"$error":"#DIV/0!"},null,"13",26]
[17,"1GV19EC021","LEEKATH UNNISSA A",null,14,16,"10",10,"18","18","8",10,19,"19","10",10,null,42,84,45.2,90.4,15.200000000000001,95,33.200000000000003,97.64705882352942,0,{"$error":"#DIV/0!"},0,{"$error":"#DIV/0!"},null,28,56]
[18,"1GV19EC022","MAHALAKSHMI S",null,15,12,"9",10,"18","20","9",10,19,"19","6",10,null,38.799999999999997,77.599999999999994,47.6,95.2,15.200000000000001,95,30,88.235294117647058,0,{"$error":"#DIV/0!"},0,{"$error":"#DIV/0!"},null,37,74]
[19,"1GV19EC023","MARY VINISHA B",null,12,16,"9",10,"16","18","8",10,19,"18","8",10,null,39.6,79.2,43.6,87.2,14.4,90,31.6,92.941176470588232,0,{"$error":"#DIV/0!"},0,{"$error":"#DIV/0!"},null,27,54]
[20,"1GV19EC024","MOHAMMED IRFAN",null,16,16,"10",10,"18","16","8",10,15,"15","4",10,null,43.6,87.2,43.6,87.2,12,75,25.2,74.117647058823536,0,{"$error":"#DIV/0!"},0,{"$error":"#DIV/0!"},null,19,38]
[21,"1GV19EC026","MOHAN C R",null,16,15,"8",10,"16","16","8",10,0,null,null,10,null,41.2,82.4,42,84,0,0,10,29.411764705882351,0,{"$error":"#DIV/0!"},0,{"$error":"#DIV/0!"},null,23,46]
[22,"1GV19EC027","MOUNIKA V",null,7,13,"7",10,"16","18","8",10,18,"16","6",10,null,31.6,63.2,43.6,87.2,12.8,80,29.200000000000003,85.882352941176478,0,{"$error":"#DIV/0!"},0,{"$error":"#DIV/0!"},null,20,40]
[23,"1GV19EC028","MOUNISHA N N",null,14,16,"9",10,"18","16","8",10,16,"17","8",10,null,41.2,82.4,43.6,87.2,13.600000000000001,85.000000000000014,29.200000000000003,85.882352941176478,0,{"$error":"#DIV/0!"},0,{"$error":"#DIV/0!"},null,30,60]
[24,"1GV19EC029","NOMESHWAR V ",null,16,12,"8",10,"16","16","8",10,20,"19","9",10,null,38.800000000000004,77.600000000000009,42,84,15.200000000000001,95,33.200000000000003,97.64705882352942,0,{"$error":"#DIV/0!"},0,{"$error":"#DIV/0!"},null,31,62]
[25,"1GV19EC030","POOJA G V",null,12,10,"8",10,"16","16","8",10,15,"12","4",10,null,34,68,42,84,9.6000000000000014,60.000000000000007,25.2,74.117647058823536,0,{"$error":"#DIV/0!"},0,{"$error":"#DIV/0!"},null,22,44]
[26,"1GV19EC033","RISHIKA R",null,null,null,null,10,null,null,null,10,1,"9","9",10,null,10,20,10,20,7.2,45,18,52.941176470588232,0,{"$error":"#DIV/0!"},0,{"$error":"#DIV/0!"},null,10,20]
[27,"1GV19EC034","SAFNA FIRDOUS E K",null,12,10,"8",10,"16","18","8",10,14,"10","8",10,null,34,68,43.6,87.2,8,50,27.6,81.17647058823529,0,{"$error":"#DIV/0!"},0,{"$error":"#DIV/0!"},null,"23",46]
[28,"1GV19EC035","SAHANA K",null,8,8,"10",10,"20","20","4",10,0,null,null,10,null,30.8,61.6,45.2,90.4,0,0,10,29.411764705882351,0,{"$error":"#DIV/0!"},0,{"$error":"#DIV/0!"},null,25,50]
[29,"1GV19EC036","SAIMANIMALA S",null,12,10,"8",10,"18","18","8",10,18,"16","9",10,null,34,68,45.2,90.4,12.8,80,31.6,92.941176470588232,0,{"$error":"#DIV/0!"},0,{"$error":"#DIV/0!"},null,28,56]
[30,"1GV19EC037","SAKTHI RAGAVAN",null,15,13,"9",10,"18","18","8",10,18,"14","8",10,null,39.599999999999994,79.199999999999989,45.2,90.4,11.200000000000001,70,30.8,90.588235294117652,0,{"$error":"#DIV/0!"},0,{"$error":"#DIV/0!"},null,33,66]
[31,"1GV19EC039","SHARMILA A",null,13,14,"8",10,"16","16","8",10,18,"17","7",10,null,38,76,42,84,13.600000000000001,85.000000000000014,30,88.235294117647058,0,{"$error":"#DIV/0!"},0,{"$error":"#DIV/0!"},null,26,52]
[32,"1GV19EC040","SHYAM KUMAR P",null,8,6,"8",10,"12","12","6",10,8,"12","1",10,null,27.6,55.2,34,68,9.6000000000000014,60.000000000000007,17.2,50.588235294117645,0,{"$error":"#DIV/0!"},0,{"$error":"#DIV/0!"},null,"13",26]
[33,"1GV19EC041","SNEHA N",null,13,15,"9",10,"16","16","8",10,{"$f":"SUM(I61:L61)","v":10},null,null,10,null,39.599999999999994,79.199999999999989,42,84,0,0,18,52.941176470588232,0,{"$error":"#DIV/0!"},0,{"$error":"#DIV/0!"},null,28,56]
[34,"1GV19EC042","SNEHA S",null,4,15,"9",10,"16","18","8",10,6,"7","2",10,null,32.4,64.8,43.6,87.2,5.6000000000000005,35,16.399999999999999,48.235294117647051,0,{"$error":"#DIV/0!"},0,{"$error":"#DIV/0!"},null,21,42]
[35,"1GV19EC043","SOUJANYA D",null,11,12,"10",10,"20","18","8",10,18,"17","8",10,null,36.400000000000006,72.800000000000011,46.8,93.6,13.600000000000001,85.000000000000014,30.8,90.588235294117652,0,{"$error":"#DIV/0!"},0,{"$error":"#DIV/0!"},null,30,60]
[36,"1GV19EC044","SOWMIYA J",null,15,12,"9",10,"20","18","8",10,19,"19","9",10,null,38.799999999999997,77.599999999999994,46.8,93.6,15.200000000000001,95,32.400000000000006,95.29411764705884,0,{"$error":"#DIV/0!"},0,{"$error":"#DIV/0!"},null,"32",64]
[37,"1GV19EC045","SUJITHA S",null,14,18,"10",10,"20","18","9",10,18,"17","9",10,null,43.6,87.2,47.6,95.2,13.600000000000001,85.000000000000014,31.6,92.941176470588232,0,{"$error":"#DIV/0!"},0,{"$error":"#DIV/0!"},null,"32",64]
[38,"1GV19EC046","SUMITH R",null,11,12,"9",10,"16","18","8",10,13,"7","3",10,null,35.6,71.2,43.6,87.2,5.6000000000000005,35,22.8,67.058823529411768,0,{"$error":"#DIV/0!"},0,{"$error":"#DIV/0!"},null,25,50]
[39,"1GV19EC047","SURYA H G",null,7,8,"6",10,"10","10","3",10,10,"5","0",10,null,26.8,53.6,28.4,56.8,4,25,18,52.941176470588232,0,{"$error":"#DIV/0!"},0,{"$error":"#DIV/0!"},null,"11",22]
[40,"1GV19EC048","SWETHA T",null,13,15,"8",10,"16","16","8",10,13,"5","2",10,null,38.799999999999997,77.599999999999994,42,84,4,25,22,64.705882352941174,0,{"$error":"#DIV/0!"},0,{"$error":"#DIV/0!"},null,17,34]
[41,"1GV19EC049","SYED ASHWAQ AHMED M",null,14,15,"8",10,"16","16","8",10,17,"10","6",10,null,39.6,79.2,42,84,8,50,28.400000000000002,83.529411764705884,0,{"$error":"#DIV/0!"},0,{"$error":"#DIV/0!"},null,24,48]
[42,"1GV19EC050","TRIBHUVAN S R",null,7,10,"6",10,"16","16","8",10,12,"8","2",10,null,28.400000000000002,56.8,42,84,6.4,40,21.200000000000003,62.352941176470601,0,{"$error":"#DIV/0!"},0,{"$error":"#DIV/0!"},null,20,40]
[43,"1GV19EC051","VANDANA K",null,11,15,"9",10,"18","16","8",10,11,"7","3",10,null,38,76,43.6,87.2,5.6000000000000005,35,21.200000000000003,62.352941176470601,0,{"$error":"#DIV/0!"},0,{"$error":"#DIV/0!"},null,17,34]
[44,"1GV19EC052","VARADARAJU D",null,11,10,"8",10,"16","13","6",10,18,"10",null,10,null,33.200000000000003,66.400000000000006,38,76,8,50,24.4,71.764705882352942,0,{"$error":"#DIV/0!"},0,{"$error":"#DIV/0!"},null,26,52]
[45,"1GV19EC053","VIDHYA G N",null,13,12,"8",10,"16","18","8",10,14,"15","8",10,null,36.4,72.8,43.6,87.2,12,75,27.6,81.17647058823529,0,{"$error":"#DIV/0!"},0,{"$error":"#DIV/0!"},null,24,48]
[46,"1GV19EC054","VIDYA M",null,10,12,"8",10,"16","16","8",10,10,null,null,10,null,34,68,42,84,0,0,18,52.941176470588232,0,{"$error":"#DIV/0!"},0,{"$error":"#DIV/0!"},null,20,40]
[47,"1GV19EC057","GRITA A",null,17,19,"10",10,"20","18","9",10,20,"19","10",10,null,46.800000000000004,93.6,47.6,95.2,15.200000000000001,95,34,100,0,{"$error":"#DIV/0!"},0,{"$error":"#DIV/0!"},null,38,76]
[48,"1GV19EC058","TABREZ AHMED N",null,16,14,"9",10,"8","4","3",10,13,"11","8",10,null,41.2,82.4,22,44,8.8000000000000007,55.000000000000007,26.8,78.82352941176471,0,{"$error":"#DIV/0!"},0,{"$error":"#DIV/0!"},null,25,50]
[49,"1GV18EC012","KENNETH BENNY J",null,13,null,"8",10,"16","16","8",10,1,"6","7",10,null,26.8,53.6,42,84,4.8000000000000007,30.000000000000004,16.399999999999999,48.235294117647051,0,{"$error":"#DIV/0!"},0,{"$error":"#DIV/0!"},null,26,52]
[50,"1GV18EC013","KEZIA R",null,13,14,"8",10,"18","16","8",10,8,"4","7",10,null,38,76,43.6,87.2,3.2,20,22,64.705882352941174,0,{"$error":"#DIV/0!"},0,{"$error":"#DIV/0!"},null,26,52]
[51,"1GV18EC022","PAVITHRA. P   ",null,15,18,"10",10,"16",null,"8",10,19,"16","7",10,null,44.4,88.8,29.200000000000003,58.400000000000006,12.8,80,30.8,90.588235294117652,0,{"$error":"#DIV/0!"},0,{"$error":"#DIV/0!"},null,"32",64]
[52,"1GV18EC033","SHREEJA R",null,15,14,"9",10,"18","16","8",10,14,"2",null,10,null,40.400000000000006,80.800000000000011,43.6,87.2,1.6,10,21.200000000000003,62.352941176470601,0,{"$error":"#DIV/0!"},0,{"$error":"#DIV/0!"},null,20,40]
[53,"1GV18EC035","SIDDHITHA S",null,15,12,"9",10,"15","18","9",10,0,"2","7",10,null,38.799999999999997,77.599999999999994,43.6,87.2,1.6,10,15.600000000000001,45.882352941176478,0,{"$error":"#DIV/0!"},0,{"$error":"#DIV/0!"},null,21,42]
[54,"1GV17EC047","TEJESASHWSI ONGOLE Y",null,7,null,"8",10,"10","5","5",10,0,null,null,10,null,22,44,26,52,0,0,10,29.411764705882351,0,{"$error":"#DIV/0!"},0,{"$error":"#DIV/0!"},null,"13",26]
[55,"1GV16EC038","RACHANA K R",null,7,null,"8",10,"10","10","3",10,0,null,null,10,null,22,44,28.4,56.8,0,0,10,29.411764705882351,0,{"$error":"#DIV/0!"},0,{"$error":"#DIV/0!"},null,15,30]
[56,"1GV20EC400","ARUN KUMAR N",null,null,null,null,10,null,null,null,10,0,null,null,10,null,10,20,10,20,0,0,10,29.411764705882351,0,{"$error":"#DIV/0!"},0,{"$error":"#DIV/0!"},null,"3",6]
[57,"1GV20EC401","BHUVANESH KUMAR U",null,12,3,7,10,"18","9","8",10,0,null,null,10,null,27.6,55.2,38,76,0,0,10,29.411764705882351,0,{"$error":"#DIV/0!"},0,{"$error":"#DIV/0!"},null,17,34]
[58,"1GV20EC402","CHANDRALEKHA M",null,12,14,8,10,18,16,8,10,15,10,4,10,null,37.200000000000003,74.400000000000006,43.6,87.2,8,50,25.2,74.117647058823536,0,{"$error":"#DIV/0!"},0,{"$error":"#DIV/0!"},null,29,58]
[59,"1GV20EC404","VEDASHREE GM",null,12,14,8,10,"18","18","8",10,14,6,3,10,null,37.200000000000003,74.400000000000006,45.2,90.4,4.8000000000000007,30.000000000000004,23.6,69.411764705882348,0,{"$error":"#DIV/0!"},0,{"$error":"#DIV/0!"},null,28,56]
[60,"1GV20EC405","VIJAYKUMAR R",null,8,10,8,10,12,12,6,10,11,6,4,10,null,30.8,61.6,34,68,4.8000000000000007,30.000000000000004,22,64.705882352941174,0,{"$error":"#DIV/0!"},0,{"$error":"#DIV/0!"},null,17,34]
[null,null,{"$f":"S8-COUNTIF(C29:C88,\"\")","v":60},null,null,null,null,null,null,null,null,null,null,null,null,null,null,"CO1",{"$f":"COUNTIF(S29:S88,\">=50\")","v":56},"CO2",{"$f":"COUNTIF(U29:U88,\">=50\")","v":57},"CO3",{"$f":"COUNTIF(W29:W88,\">=50\")","v":34},"CO4",{"$f":"COUNTIF(Y29:Y88,\">=50\")","v":47},"CO5",{"$f":"COUNTIF(AA29:AA88,\">=50\")","v":0},"CO6",{"$f":"COUNTIF(AC29:AC88,\">=50\")","v":0},null,"VTU",{"$f":"COUNTIF(AF29:AF88,\">=50\")","v":28}]
[]
[]
[]
[]
[]
[]
[]
[]
[]
[]
[]
[]
[]
[]
[]
[]
[]
[]
[]
[]
[]
[null,{"$f":"\" Target is \"&D24&\"% marks\"","v":" Target is 50% marks"}]
[null,{"$f":"\"Attainment level 1:  40% students scoring more than \" &D24 &\"% marks\"","v":"Attainment level 1:  40% students scoring more than 50% marks"}]
[null,{"$f":"\"Attainment level 2:  45% students scoring more than \"&D24 &\"% marks\"","v":"Attainment level 2:  45% students scoring more than 50% marks"}]
[null,{"$f":"\"Attainment level 3:  50% students scoring more than \" &D24 &\"% marks\"","v":"Attainment level 3:  50% students scoring more than 50% marks"}]
[]
[null,{"$f":"\"PERCENTAGE OF STUDENTS SCORING > \"&D24 &\"% of Marks (For Internal Assessment)\"","v":"PERCENTAGE OF STUDENTS SCORING > 50% of Marks (For Internal Assessment)"}]
[null,"CO'S",null,null,null,null,null,null,null,null,null,null,null,"CO1",null,null,"CO2",null,"CO3",null,"CO4",null,"CO5",null,"CO6"]
[null,{"$f":"\"Number of Students Scored above \" &D24 &\"% marks\"","v":"Number of Students Scored above 50% marks"},null,null,null,null,null,null,null,null,null,null,null,{"$f":"S89","v":56},null,null,{"$f":"U89","v":57},null,{"$f":"W89","v":34},null,{"$f":"Y89","v":47},null,{"$f":"AA89","v":0},null,{"$f":"AC89","v":0}]
[null,"Number of Students attempted the test",null,null,null,null,null,null,null,null,null,null,null,{"$f":"$S$8","v":60},null,null,{"$f":"$S$8","v":60},null,{"$f":"$S$8","v":60},null,{"$f":"$S$8","v":60},null,{"$f":"$S$8","v":60},null,{"$f":"$S$8","v":60}]
[null,"%  OF STUDENTS",null,null,null,null,null,null,null,null,null,null,null,{"$f":"IF(W19=0,\"\",N118*100/N119)","v":93.333333333333329},null,null,{"$f":"IF(W20=0,\"\",Q118*100/Q119)","v":95},null,{"$f":"IF(W21=0,\"\",S118*100/S119)","v":56.666666666666664},null,{"$f":"IF(W22=0,\"\",U118*100/U119)","v":78.333333333333329},null,{"$f":"IF(W23=0,\"\",W118*100/W119)","v":""},null,{"$f":"IF(W24=0,\"\",Y118*100/Y119)","v":""}]
[null,"Attainment Level",null,null,null,null,null,null,null,null,null,null,null,{"$f":"IF(W19=0,\"\",IF(N120>=50,3,IF(N120>=45,2,IF(N120>=40,1,0))))","v":3},null,null,{"$f":"IF(W20=0,\"\",IF(Q120>=50,3,IF(Q120>=45,2,IF(Q120>=40,1,0))))","v":3},null,{"$f":"IF(W21=0,\"\",IF(S120>=50,3,IF(S120>=45,2,IF(S120>=40,1,0))))","v":3},null,{"$f":"IF(W22=0,\"\",IF(U120>=50,3,IF(U120>=45,2,IF(U120>=40,1,0))))","v":3},null,{"$f":"IF(W23=0,\"\",IF(W120>=50,3,IF(W120>=45,2,IF(W120>=40,1,0))))","v":""},null,{"$f":"IF(W24=0,\"\",IF(Y120>=50,3,IF(Y120>=45,2,IF(Y120>=40,1,0))))","v":""}]
[]
[null,{"$f":"\"PERCENTAGE OF STUDENTS SCORING > \"& D24 &\"% of marks (For University Examination)\"","v":"PERCENTAGE OF STUDENTS SCORING > 50% of marks (For University Examination)"}]
[null,{"$f":"\"Number of Students Scored above \"&D24&\" % of Marks\"","v":"Number of Students Scored above 50 % of Marks"},null,null,null,null,null,null,null,null,null,null,null,null,null,null,null,{"$f":"AF89","v":28}]
[null,"Number of Students attempted the Examination",null,null,null,null,null,null,null,null,null,null,null,null,null,null,null,{"$f":"S8","v":60}]
[null,"%  OF STUDENTS",null,null,null,null,null,null,null,null,null,null,null,null,null,null,null,{"$f":"R124*100/R125","v":46.666666666666664}]
[null,"Attainment Level",null,null,null,null,null,null,null,null,null,null,null,null,null,null,null,{"$f":"IF(R126>=50,3,IF(R126>=45,2,IF(R126>=40,1,0)))","v":2}]
[]
[null,"Calculation for CO attainment by direct assessment  (40% weightage for IA & 60% SEE marks)",null,null,null,null,null,null,"Attainment ",null,null,null,"CO attainment using Course survey",null,null,null,null,null,null,null,null,"Overall CO attainment ",null,null,null,null,null,null,null,null,null,null,null,null,"Weghtage for Indirect assessment"]
[]
[null,"CO1",null,null,null,null,null,null,{"$f":"IF(W19=0,\"\",(0.4*N120/100+0.6*$R$126/100))","v":0.65333333333333332},null,null,null,"CO1",null,null,null,null,0.93799999999999994,null,null,null,"CO1",null,null,null,null,{"$f":"IF(I131=\"\",\"\",(I131*$AI$132+R131*$AJ$132))","v":0.71026666666666671},null,null,null,null,null,null,null,"Direct","Indirect"]
[null,"CO2",null,null,null,null,null,null,{"$f":"IF(W20=0,\"\",(0.4*Q120/100+0.6*$R$126/100))","v":0.65999999999999992},null,null,null,"CO2",null,null,null,null,0.89700000000000002,null,null,null,"CO2",null,null,null,null,{"$f":"IF(I132=\"\",\"\",(I132*$AI$132+R132*$AJ$132))","v":0.70739999999999992},null,null,null,null,null,null,null,0.8,0.2]
[null,"CO3",null,null,null,null,null,null,{"$f":"IF(W21=0,\"\",(0.4*S120/100+0.6*$R$126/100))","v":0.5066666666666666},null,null,null,"CO3",null,null,null,null,0.87070000000000003,null,null,null,"CO3",null,null,null,null,0.57947333333333328]
[null,"CO4",null,null,null,null,null,null,{"$f":"IF(W22=0,\"\",(0.4*U120/100+0.6*$R$126/100))","v":0.59333333333333327},null,null,null,"CO4",null,null,null,null,0.8639,null,null,null,"CO4",null,null,null,null,0.64744666666666661]
[null,"CO5",null,null,null,null,null,null,{"$f":"IF(W23=0,\"\",(0.4*W120/100+0.6*$R$126/100))","v":""},null,null,null,"CO5",null,null,null,null,null,null,null,null,"CO5",null,null,null,null,""]
[null,"CO6",null,null,null,null,null,null,{"$f":"IF(W24=0,\"\",(0.4*Y120/100+0.6*$R$126/100))","v":""},null,null,null,"CO6",null,null,null,null,null,null,null,null,"CO6",null,null,null,null,""]
[]
[]
[null,null,"PO MAPPING",null,null,null,null,null,null,null,null,null,null,null,null,null,null,null,null,null,"PSO MAPPING"]
[null,null,"CO'S",null,1,2,3,4,5,6,7,8,9,10,11,12,null,null,null,null,"CO'S",null,null,null,null,1,2,3]
[null,null,"CO1",null,3,3,null,null,null,null,null,null,null,null,null,null,null,null,null,null,"CO1",null,null,null,null,2]
[null,null,"CO2",null,3,2,1,null,null,null,null,null,null,null,null,null,null,null,null,null,"CO2",null,null,null,null,null,2]
[null,null,"CO3",null,3,2,1,null,null,null,null,null,null,null,null,null,null,null,null,null,"CO3"]
[null,null,"CO4",null,3,2,null,null,null,null,null,null,null,null,null,null,null,null,null,null,"CO4"]
[null,null,"CO5",null,null,null,null,null,null,null,null,null,null,null,null,null,null,null,null,null,"CO5"]
[null,null,"CO6",null,null,null,null,null,null,null,null,null,null,null,null,null,null,null,null,null,"CO6"]
[null,null,"Total",null,{"$f":"SUM(E141:E146)","v":12},{"$f":"SUM(F141:F146)","v":9},2,0,0,0,0,0,0,0,0,0,null,null,null,null,"Total",null,null,null,null,{"$f":"SUM(Z141:Z146)","v":2},{"$f":"SUM(AA141:AA146)","v":2},0]
[null,null," PO AVERAGE",null,{"$f":"IF(E147=0,\"\",AVERAGE(E141:E146))","v":3},{"$f":"IF(F147=0,\"\",AVERAGE(F141:F146))","v":2.25},1,"","","","","","","","","",null,null,null,null,"PSO AVERAGE",null,null,null,null,{"$f":"IF(Z147=0,\"\",AVERAGE(Z141:Z146))","v":2},{"$f":"IF(AA147=0,\"\",AVERAGE(AA141:AA146))","v":2},""]
[]
[]
[null,null,"ATTAINMENT",null,null,null,null,null,null,null,null,null,null,null,null,null,null,null,null,null,"ATTAINMENT"]
[]
[null,null,"CO'S",null,1,2,3,4,5,6,7,8,9,10,11,12,null,null,null,null,"CO'S",null,null,null,null,1,2,3]
[null,null,"CO1",null,{"$f":"IF(E141=\"\",\"\",(E141*$AA$131))","v":2.1308000000000002},{"$f":"IF(F141=\"\",\"\",(F141*$AA$131))","v":2.1308000000000002},"","","","","","","","","","",null,null,null,null,"CO1",null,null,null,null,{"$f":"IF(Z141=\"\",\"\",(Z141*$AA$131))","v":1.4205333333333334},{"$f":"IF(AA141=\"\",\"\",(AA141*$AA$131))","v":""},""]
[null,null,"CO2",null,{"$f":"IF(E142=\"\",\"\",(E142*$AA$132))","v":2.1221999999999999},{"$f":"IF(F142=\"\",\"\",(F142*$AA$132))","v":1.4147999999999998},0.70739999999999992,"","","","","","","","","",null,null,null,null,"CO2",null,null,null,null,{"$f":"IF(Z142=\"\",\"\",(Z142*$AA$132))","v":""},{"$f":"IF(AA142=\"\",\"\",(AA142*$AA$132))","v":1.4147999999999998},""]
[null,null,"CO3",null,{"$f":"IF(E143=\"\",\"\",(E143*$AA$133))","v":1.7384199999999999},{"$f":"IF(F143=\"\",\"\",(F143*$AA$133))","v":1.1589466666666666},0.57947333333333328,"","","","","","","","","",null,null,null,null,"CO3",null,null,null,null,{"$f":"IF(Z143=\"\",\"\",(Z143*$AA$133))","v":""},{"$f":"IF(AA143=\"\",\"\",(AA143*$AA$133))","v":""},""]
[null,null,"CO4",null,{"$f":"IF(E144=\"\",\"\",(E144*$AA$134))","v":1.9423399999999997},{"$f":"IF(F144=\"\",\"\",(F144*$AA$134))","v":1.2948933333333332},"","","","","","","","","","",null,null,null,null,"CO4",null,null,null,null,{"$f":"IF(Z144=\"\",\"\",(Z144*$AA$134))","v":""},{"$f":"IF(AA144=\"\",\"\",(AA144*$AA$134))","v":""},""]
[null,null,"CO5",null,{"$f":"IF(E145=\"\",\"\",(E145*$AA$135))","v":""},{"$f":"IF(F145=\"\",\"\",(F145*$AA$135))","v":""},"","","","","","","","","","",null,null,null,null,"CO5",null,null,null,null,{"$f":"IF(Z145=\"\",\"\",(Z145*$AA$135))","v":""},{"$f":"IF(AA145=\"\",\"\",(AA145*$AA$135))","v":""},""]
[null,null,"CO6",null,{"$f":"IF(E146=\"\",\"\",(E146*$AA$136))","v":""},{"$f":"IF(F146=\"\",\"\",(F146*$AA$136))","v":""},"","","","","","","","","","",null,null,null,null,"CO6",null,null,null,null,{"$f":"IF(Z146=\"\",\"\",(Z146*$AA$136))","v":""},{"$f":"IF(AA146=\"\",\"\",(AA146*$AA$136))","v":""},""]
[null,null," PO AVERAGE",null,{"$f":"IF(E147=0,\"\",AVERAGE(E154:E159))","v":1.9834399999999999},{"$f":"IF(F147=0,\"\",AVERAGE(F154:F159))","v":1.4998600000000002},0.64343666666666666,"","","","","","","","","",null,null,null,null,"PSO AVERAGE",null,null,null,null,{"$f":"IF(Z147=0,\"\",AVERAGE(Z154:Z159))","v":1.4205333333333334},{"$f":"IF(AA147=0,\"\",AVERAGE(AA154:AA159))","v":1.4147999999999998},""]
[]
[]
[]
[]
[]
[]
[]
[]
[]
[]
[]
[]
[]
[]
[null,null,"Prepared by"]
[null,null,"Dr. P D Sudersanan, Dr.TTIT, K.G.F."]

{"sheet":"List of Students","index":1,"n_rows":71,"n_cols":9,"rows_kept":71,"cut":false,"hidden":false,"merged":[[3,0,3,2],[70,0,70,1],[8,2,8,3],[9,2,9,3],[10,2,10,3],[11,2,11,3],[12,2,12,3],[13,2,13,3],[14,2,14,3],[15,2,15,3],[16,2,16,3],[17,2,17,3],[18,2,18,3],[19,2,19,3],[20,2,20,3],[21,2,21,3],[22,2,22,3],[23,2,23,3],[24,2,24,3],[25,2,25,3],[26,2,26,3],[27,2,27,3],[28,2,28,3],[29,2,29,3],[30,2,30,3],[31,2,31,3],[32,2,32,3],[33,2,33,3],[34,2,34,3],[35,2,35,3],[36,2,36,3],[37,2,37,3],[38,2,38,3],[39,2,39,3],[40,2,40,3],[41,2,41,3],[42,2,42,3],[43,2,43,3],[44,2,44,3],[45,2,45,3],[46,2,46,3],[53,2,53,3],[54,2,54,3],[55,2,55,3],[56,2,56,3],[47,2,47,3],[48,2,48,3],[49,2,49,3],[50,2,50,3],[51,2,51,3],[4,0,4,3],[5,0,5,3],[6,0,6,3],[64,2,64,3],[68,2,68,3],[59,2,59,3],[60,2,60,3],[61,2,61,3],[62,2,62,3],[63,2,63,3],[57,2,57,3],[58,2,58,3],[65,2,65,3],[66,2,66,3],[67,2,67,3],[52,2,52,3]]}
[]
[]
[null,null,null,null,null,null,null,null,{"$f":"'PO Attainment'!S8","v":60}]
["F.No-DrTTIT/IQAC/2020-21/002AP"]
[{"$f":"\"Department of \" &'PO Attainment'!C6 &\" Engineering\"","v":"Department of Electronics & Communication Engineering"}]
[{"$f":"\" Academic Year  \"&'PO Attainment'!C8","v":" Academic Year  2020-21"}]
["Students Name List"]
["Sem:",{"$f":"'PO Attainment'!C5","v":"IV"},"Date:",{"$f":"TODAY()","v":"2021-11-12"}]
["Sl.No","USN","Name of the Student "]
[{"$f":"'PO Attainment'!A29","v":1},{"$f":"'PO Attainment'!B29","v":"1GV19EC002"},{"$f":"'PO Attainment'!C29","v":"AKSHAYA K A"}]
[{"$f":"'PO Attainment'!A30","v":2},{"$f":"'PO Attainment'!B30","v":"1GV19EC003"},{"$f":"'PO Attainment'!C30","v":"AVINASH BABU B"}]
[{"$f":"'PO Attainment'!A31","v":3},{"$f":"'PO Attainment'!B31","v":"1GV19EC005"},{"$f":"'PO Attainment'!C31","v":"BHARATH KUMAR R"}]
[{"$f":"'PO Attainment'!A32","v":4},{"$f":"'PO Attainment'!B32","v":"1GV19EC006"},{"$f":"'PO Attainment'!C32","v":"BHARGAVI S"}]
[{"$f":"'PO Attainment'!A33","v":5},{"$f":"'PO Attainment'!B33","v":"1GV19EC007"},{"$f":"'PO Attainment'!C33","v":"CHAITHANYA K K V"}]
[{"$f":"'PO Attainment'!A34","v":6},{"$f":"'PO Attainment'!B34","v":"1GV19EC008"},{"$f":"'PO Attainment'!C34","v":"DEEPAK R"}]
[{"$f":"'PO Attainment'!A35","v":7},{"$f":"'PO Attainment'!B35","v":"1GV19EC009"},{"$f":"'PO Attainment'!C35","v":"DIVYA PRIYA G R"}]
[{"$f":"'PO Attainment'!A36","v":8},{"$f":"'PO Attainment'!B36","v":"1GV19EC010"},{"$f":"'PO Attainment'!C36","v":"DIVYA SWETHA J"}]
[{"$f":"'PO Attainment'!A37","v":9},{"$f":"'PO Attainment'!B37","v":"1GV19EC011"},{"$f":"'PO Attainment'!C37","v":"EVANGELIN P"}]
[{"$f":"'PO Attainment'!A38","v":10},{"$f":"'PO Attainment'!B38","v":"1GV19EC012"},{"$f":"'PO Attainment'!C38","v":"FARHEEN TAJ"}]
[{"$f":"'PO Attainment'!A39","v":11},{"$f":"'PO Attainment'!B39","v":"1GV19EC014"},{"$f":"'PO Attainment'!C39","v":"HARISHAKTHI N"}]
[{"$f":"'PO Attainment'!A40","v":12},{"$f":"'PO Attainment'!B40","v":"1GV19EC015"},{"$f":"'PO Attainment'!C40","v":"JAISHNAVI U"}]
[{"$f":"'PO Attainment'!A41","v":13},{"$f":"'PO Attainment'!B41","v":"1GV19EC017"},{"$f":"'PO Attainment'!C41","v":"KANISHA R"}]
[{"$f":"'PO Attainment'!A42","v":14},{"$f":"'PO Attainment'!B42","v":"1GV19EC018"},{"$f":"'PO Attainment'!C42","v":"KAVYA RAJ"}]
[{"$f":"'PO Attainment'!A43","v":15},{"$f":"'PO Attainment'!B43","v":"1GV19EC019"},{"$f":"'PO Attainment'!C43","v":"KEERTHANA B S"}]
[{"$f":"'PO Attainment'!A44","v":16},{"$f":"'PO Attainment'!B44","v":"1GV19EC020"},{"$f":"'PO Attainment'!C44","v":"KRITHIKA A"}]
[{"$f":"'PO Attainment'!A45","v":17},{"$f":"'PO Attainment'!B45","v":"1GV19EC021"},{"$f":"'PO Attainment'!C45","v":"LEEKATH UNNISSA A"}]
[{"$f":"'PO Attainment'!A46","v":18},{"$f":"'PO Attainment'!B46","v":"1GV19EC022"},{"$f":"'PO Attainment'!C46","v":"MAHALAKSHMI S"}]
[{"$f":"'PO Attainment'!A47","v":19},{"$f":"'PO Attainment'!B47","v":"1GV19EC023"},{"$f":"'PO Attainment'!C47","v":"MARY VINISHA B"}]
[{"$f":"'PO Attainment'!A48","v":20},{"$f":"'PO Attainment'!B48","v":"1GV19EC024"},{"$f":"'PO Attainment'!C48","v":"MOHAMMED IRFAN"}]
[{"$f":"'PO Attainment'!A49","v":21},{"$f":"'PO Attainment'!B49","v":"1GV19EC026"},{"$f":"'PO Attainment'!C49","v":"MOHAN C R"}]
[{"$f":"'PO Attainment'!A50","v":22},{"$f":"'PO Attainment'!B50","v":"1GV19EC027"},{"$f":"'PO Attainment'!C50","v":"MOUNIKA V"}]
[{"$f":"'PO Attainment'!A51","v":23},{"$f":"'PO Attainment'!B51","v":"1GV19EC028"},{"$f":"'PO Attainment'!C51","v":"MOUNISHA N N"}]
[{"$f":"'PO Attainment'!A52","v":24},{"$f":"'PO Attainment'!B52","v":"1GV19EC029"},{"$f":"'PO Attainment'!C52","v":"NOMESHWAR V "}]
[{"$f":"'PO Attainment'!A53","v":25},{"$f":"'PO Attainment'!B53","v":"1GV19EC030"},{"$f":"'PO Attainment'!C53","v":"POOJA G V"}]
[{"$f":"'PO Attainment'!A54","v":26},{"$f":"'PO Attainment'!B54","v":"1GV19EC033"},{"$f":"'PO Attainment'!C54","v":"RISHIKA R"}]
[{"$f":"'PO Attainment'!A55","v":27},{"$f":"'PO Attainment'!B55","v":"1GV19EC034"},{"$f":"'PO Attainment'!C55","v":"SAFNA FIRDOUS E K"}]
[{"$f":"'PO Attainment'!A56","v":28},{"$f":"'PO Attainment'!B56","v":"1GV19EC035"},{"$f":"'PO Attainment'!C56","v":"SAHANA K"}]
[{"$f":"'PO Attainment'!A57","v":29},{"$f":"'PO Attainment'!B57","v":"1GV19EC036"},{"$f":"'PO Attainment'!C57","v":"SAIMANIMALA S"}]
[{"$f":"'PO Attainment'!A58","v":30},{"$f":"'PO Attainment'!B58","v":"1GV19EC037"},{"$f":"'PO Attainment'!C58","v":"SAKTHI RAGAVAN"}]
[{"$f":"'PO Attainment'!A59","v":31},{"$f":"'PO Attainment'!B59","v":"1GV19EC039"},{"$f":"'PO Attainment'!C59","v":"SHARMILA A"}]
[{"$f":"'PO Attainment'!A60","v":32},{"$f":"'PO Attainment'!B60","v":"1GV19EC040"},{"$f":"'PO Attainment'!C60","v":"SHYAM KUMAR P"}]
[{"$f":"'PO Attainment'!A61","v":33},{"$f":"'PO Attainment'!B61","v":"1GV19EC041"},{"$f":"'PO Attainment'!C61","v":"SNEHA N"}]
[{"$f":"'PO Attainment'!A62","v":34},{"$f":"'PO Attainment'!B62","v":"1GV19EC042"},{"$f":"'PO Attainment'!C62","v":"SNEHA S"}]
[{"$f":"'PO Attainment'!A63","v":35},{"$f":"'PO Attainment'!B63","v":"1GV19EC043"},{"$f":"'PO Attainment'!C63","v":"SOUJANYA D"}]
[{"$f":"'PO Attainment'!A64","v":36},{"$f":"'PO Attainment'!B64","v":"1GV19EC044"},{"$f":"'PO Attainment'!C64","v":"SOWMIYA J"}]
[{"$f":"'PO Attainment'!A65","v":37},{"$f":"'PO Attainment'!B65","v":"1GV19EC045"},{"$f":"'PO Attainment'!C65","v":"SUJITHA S"}]
[{"$f":"'PO Attainment'!A66","v":38},{"$f":"'PO Attainment'!B66","v":"1GV19EC046"},{"$f":"'PO Attainment'!C66","v":"SUMITH R"}]
[{"$f":"'PO Attainment'!A67","v":39},{"$f":"'PO Attainment'!B67","v":"1GV19EC047"},{"$f":"'PO Attainment'!C67","v":"SURYA H G"}]
[{"$f":"'PO Attainment'!A68","v":40},{"$f":"'PO Attainment'!B68","v":"1GV19EC048"},{"$f":"'PO Attainment'!C68","v":"SWETHA T"}]
[{"$f":"'PO Attainment'!A69","v":41},{"$f":"'PO Attainment'!B69","v":"1GV19EC049"},{"$f":"'PO Attainment'!C69","v":"SYED ASHWAQ AHMED M"}]
[{"$f":"'PO Attainment'!A70","v":42},{"$f":"'PO Attainment'!B70","v":"1GV19EC050"},{"$f":"'PO Attainment'!C70","v":"TRIBHUVAN S R"}]
[{"$f":"'PO Attainment'!A71","v":43},{"$f":"'PO Attainment'!B71","v":"1GV19EC051"},{"$f":"'PO Attainment'!C71","v":"VANDANA K"}]
[{"$f":"'PO Attainment'!A72","v":44},{"$f":"'PO Attainment'!B72","v":"1GV19EC052"},{"$f":"'PO Attainment'!C72","v":"VARADARAJU D"}]
[{"$f":"'PO Attainment'!A73","v":45},{"$f":"'PO Attainment'!B73","v":"1GV19EC053"},{"$f":"'PO Attainment'!C73","v":"VIDHYA G N"}]
[{"$f":"'PO Attainment'!A74","v":46},{"$f":"'PO Attainment'!B74","v":"1GV19EC054"},{"$f":"'PO Attainment'!C74","v":"VIDYA M"}]
[{"$f":"'PO Attainment'!A75","v":47},{"$f":"'PO Attainment'!B75","v":"1GV19EC057"},{"$f":"'PO Attainment'!C75","v":"GRITA A"}]
[{"$f":"'PO Attainment'!A76","v":48},{"$f":"'PO Attainment'!B76","v":"1GV19EC058"},{"$f":"'PO Attainment'!C76","v":"TABREZ AHMED N"}]
[{"$f":"'PO Attainment'!A77","v":49},{"$f":"'PO Attainment'!B77","v":"1GV18EC012"},{"$f":"'PO Attainment'!C77","v":"KENNETH BENNY J"}]
[{"$f":"'PO Attainment'!A78","v":50},{"$f":"'PO Attainment'!B78","v":"1GV18EC013"},{"$f":"'PO Attainment'!C78","v":"KEZIA R"}]
[{"$f":"'PO Attainment'!A79","v":51},{"$f":"'PO Attainment'!B79","v":"1GV18EC022"},{"$f":"'PO Attainment'!C79","v":"PAVITHRA. P   "}]
[{"$f":"'PO Attainment'!A80","v":52},{"$f":"'PO Attainment'!B80","v":"1GV18EC033"},{"$f":"'PO Attainment'!C80","v":"SHREEJA R"}]
[{"$f":"'PO Attainment'!A81","v":53},{"$f":"'PO Attainment'!B81","v":"1GV18EC035"},{"$f":"'PO Attainment'!C81","v":"SIDDHITHA S"}]
[{"$f":"'PO Attainment'!A82","v":54},{"$f":"'PO Attainment'!B82","v":"1GV17EC047"},{"$f":"'PO Attainment'!C82","v":"TEJESASHWSI ONGOLE Y"}]
[{"$f":"'PO Attainment'!A83","v":55},{"$f":"'PO Attainment'!B83","v":"1GV16EC038"},{"$f":"'PO Attainment'!C83","v":"RACHANA K R"}]
[{"$f":"'PO Attainment'!A84","v":56},{"$f":"'PO Attainment'!B84","v":"1GV20EC400"},{"$f":"'PO Attainment'!C84","v":"ARUN KUMAR N"}]
[{"$f":"'PO Attainment'!A85","v":57},{"$f":"'PO Attainment'!B85","v":"1GV20EC401"},{"$f":"'PO Attainment'!C85","v":"BHUVANESH KUMAR U"}]
[{"$f":"'PO Attainment'!A86","v":58},{"$f":"'PO Attainment'!B86","v":"1GV20EC402"},{"$f":"'PO Attainment'!C86","v":"CHANDRALEKHA M"}]
[{"$f":"'PO Attainment'!A87","v":59},{"$f":"'PO Attainment'!B87","v":"1GV20EC404"},{"$f":"'PO Attainment'!C87","v":"VEDASHREE GM"}]
[{"$f":"'PO Attainment'!A88","v":60},{"$f":"'PO Attainment'!B88","v":"1GV20EC405"},{"$f":"'PO Attainment'!C88","v":"VIJAYKUMAR R"}]
[]
[" Class Coordinator",null,"               HOD"]

{"sheet":"T1","index":2,"n_rows":69,"n_cols":11,"rows_kept":69,"cut":false,"hidden":false,"merged":[[3,0,3,5],[4,0,4,5],[5,0,5,5],[6,0,6,5],[7,4,7,5]]}
[]
[]
[null,null,null,null,null,null,null,null,{"$f":"'PO Attainment'!S8","v":60},{"$f":"COUNTIF(F10:F69,\">=15.5\")","v":58},{"$f":"COUNTIF(F10:F69,\">30\")","v":50}]
["F.No-DrTTIT/IQAC/2020-21/066IAP"]
[{"$f":"\"Department of \" &'PO Attainment'!C6 &\" Engineering\"","v":"Department of Electronics & Communication Engineering"}]
["Academic Year 2020-21"]
["Internal Test - IA1"]
["Sem",{"$f":"'PO Attainment'!C5","v":"IV"}]
["Sl.No","USN","Name of the Student ","IA Marks","Assgn Marks","Total marks"]
[{"$f":"'List of Students'!A10","v":1},{"$f":"'PO Attainment'!B29","v":"1GV19EC002"},{"$f":"'PO Attainment'!C29","v":"AKSHAYA K A"},{"$f":"('PO Attainment'!E29+'PO Attainment'!F29+'PO Attainment'!G29)*'PO Attainment'!$AH$19","v":34.4},{"$f":"'PO Attainment'!H29*'PO Attainment'!$AI$19","v":10},{"$f":"D10+E10","v":44.4}]
[{"$f":"'List of Students'!A11","v":2},{"$f":"'PO Attainment'!B30","v":"1GV19EC003"},{"$f":"'PO Attainment'!C30","v":"AVINASH BABU B"},{"$f":"('PO Attainment'!E30+'PO Attainment'!F30+'PO Attainment'!G30)*'PO Attainment'!$AH$19","v":28.8},{"$f":"'PO Attainment'!H30*'PO Attainment'!$AI$19","v":10},{"$f":"D11+E11","v":38.799999999999997}]
[{"$f":"'List of Students'!A12","v":3},{"$f":"'PO Attainment'!B31","v":"1GV19EC005"},{"$f":"'PO Attainment'!C31","v":"BHARATH KUMAR R"},{"$f":"('PO Attainment'!E31+'PO Attainment'!F31+'PO Attainment'!G31)*'PO Attainment'!$AH$19","v":24},{"$f":"'PO Attainment'!H31*'PO Attainment'!$AI$19","v":10},34]
[{"$f":"'List of Students'!A13","v":4},{"$f":"'PO Attainment'!B32","v":"1GV19EC006"},{"$f":"'PO Attainment'!C32","v":"BHARGAVI S"},{"$f":"('PO Attainment'!E32+'PO Attainment'!F32+'PO Attainment'!G32)*'PO Attainment'!$AH$19","v":35.200000000000003},{"$f":"'PO Attainment'!H32*'PO Attainment'!$AI$19","v":10},45.2]
[{"$f":"'List of Students'!A14","v":5},{"$f":"'PO Attainment'!B33","v":"1GV19EC007"},{"$f":"'PO Attainment'!C33","v":"CHAITHANYA K K V"},{"$f":"('PO Attainment'!E33+'PO Attainment'!F33+'PO Attainment'!G33)*'PO Attainment'!$AH$19","v":28.8},{"$f":"'PO Attainment'!H33*'PO Attainment'!$AI$19","v":10},38.799999999999997]
[{"$f":"'List of Students'!A15","v":6},{"$f":"'PO Attainment'!B34","v":"1GV19EC008"},{"$f":"'PO Attainment'!C34","v":"DEEPAK R"},{"$f":"('PO Attainment'!E34+'PO Attainment'!F34+'PO Attainment'!G34)*'PO Attainment'!$AH$19","v":19.200000000000003},{"$f":"'PO Attainment'!H34*'PO Attainment'!$AI$19","v":10},29.200000000000003]
[{"$f":"'List of Students'!A16","v":7},{"$f":"'PO Attainment'!B35","v":"1GV19EC009"},{"$f":"'PO Attainment'!C35","v":"DIVYA PRIYA G R"},{"$f":"('PO Attainment'!E35+'PO Attainment'!F35+'PO Attainment'!G35)*'PO Attainment'!$AH$19","v":32},{"$f":"'PO Attainment'!H35*'PO Attainment'!$AI$19","v":10},42]
[{"$f":"'List of Students'!A17","v":8},{"$f":"'PO Attainment'!B36","v":"1GV19EC010"},{"$f":"'PO Attainment'!C36","v":"DIVYA SWETHA J"},{"$f":"('PO Attainment'!E36+'PO Attainment'!F36+'PO Attainment'!G36)*'PO Attainment'!$AH$19","v":36},{"$f":"'PO Attainment'!H36*'PO Attainment'!$AI$19","v":10},46]
[{"$f":"'List of Students'!A18","v":9},{"$f":"'PO Attainment'!B37","v":"1GV19EC011"},{"$f":"'PO Attainment'!C37","v":"EVANGELIN P"},{"$f":"('PO Attainment'!E37+'PO Attainment'!F37+'PO Attainment'!G37)*'PO Attainment'!$AH$19","v":23.200000000000003},{"$f":"'PO Attainment'!H37*'PO Attainment'!$AI$19","v":10},33.200000000000003]
[{"$f":"'List of Students'!A19","v":10},{"$f":"'PO Attainment'!B38","v":"1GV19EC012"},{"$f":"'PO Attainment'!C38","v":"FARHEEN TAJ"},{"$f":"('PO Attainment'!E38+'PO Attainment'!F38+'PO Attainment'!G38)*'PO Attainment'!$AH$19","v":32},{"$f":"'PO Attainment'!H38*'PO Attainment'!$AI$19","v":10},42]
[{"$f":"'List of Students'!A20","v":11},{"$f":"'PO Attainment'!B39","v":"1GV19EC014"},{"$f":"'PO Attainment'!C39","v":"HARISHAKTHI N"},{"$f":"('PO Attainment'!E39+'PO Attainment'!F39+'PO Attainment'!G39)*'PO Attainment'!$AH$19","v":28.8},{"$f":"'PO Attainment'!H39*'PO Attainment'!$AI$19","v":10},38.799999999999997]
[{"$f":"'List of Students'!A21","v":12},{"$f":"'PO Attainment'!B40","v":"1GV19EC015"},{"$f":"'PO Attainment'!C40","v":"JAISHNAVI U"},{"$f":"('PO Attainment'!E40+'PO Attainment'!F40+'PO Attainment'!G40)*'PO Attainment'!$AH$19","v":27.200000000000003},{"$f":"'PO Attainment'!H40*'PO Attainment'!$AI$19","v":10},37.200000000000003]
[{"$f":"'List of Students'!A22","v":13},{"$f":"'PO Attainment'!B41","v":"1GV19EC017"},{"$f":"'PO Attainment'!C41","v":"KANISHA R"},{"$f":"('PO Attainment'!E41+'PO Attainment'!F41+'PO Attainment'!G41)*'PO Attainment'!$AH$19","v":28.8},{"$f":"'PO Attainment'!H41*'PO Attainment'!$AI$19","v":10},38.799999999999997]
[{"$f":"'List of Students'!A23","v":14},{"$f":"'PO Attainment'!B42","v":"1GV19EC018"},{"$f":"'PO Attainment'!C42","v":"KAVYA RAJ"},{"$f":"('PO Attainment'!E42+'PO Attainment'!F42+'PO Attainment'!G42)*'PO Attainment'!$AH$19","v":28.8},{"$f":"'PO Attainment'!H42*'PO Attainment'!$AI$19","v":10},38.799999999999997]
[{"$f":"'List of Students'!A24","v":15},{"$f":"'PO Attainment'!B43","v":"1GV19EC019"},{"$f":"'PO Attainment'!C43","v":"KEERTHANA B S"},{"$f":"('PO Attainment'!E43+'PO Attainment'!F43+'PO Attainment'!G43)*'PO Attainment'!$AH$19","v":25.6},{"$f":"'PO Attainment'!H43*'PO Attainment'!$AI$19","v":10},35.6]
[{"$f":"'List of Students'!A25","v":16},{"$f":"'PO Attainment'!B44","v":"1GV19EC020"},{"$f":"'PO Attainment'!C44","v":"KRITHIKA A"},{"$f":"('PO Attainment'!E44+'PO Attainment'!F44+'PO Attainment'!G44)*'PO Attainment'!$AH$19","v":22.400000000000002},{"$f":"'PO Attainment'!H44*'PO Attainment'!$AI$19","v":10},32.400000000000006]
[{"$f":"'List of Students'!A26","v":17},{"$f":"'PO Attainment'!B45","v":"1GV19EC021"},{"$f":"'PO Attainment'!C45","v":"LEEKATH UNNISSA A"},{"$f":"('PO Attainment'!E45+'PO Attainment'!F45+'PO Attainment'!G45)*'PO Attainment'!$AH$19","v":32},{"$f":"'PO Attainment'!H45*'PO Attainment'!$AI$19","v":10},42]
[{"$f":"'List of Students'!A27","v":18},{"$f":"'PO Attainment'!B46","v":"1GV19EC022"},{"$f":"'PO Attainment'!C46","v":"MAHALAKSHMI S"},{"$f":"('PO Attainment'!E46+'PO Attainment'!F46+'PO Attainment'!G46)*'PO Attainment'!$AH$19","v":28.8},{"$f":"'PO Attainment'!H46*'PO Attainment'!$AI$19","v":10},38.799999999999997]
[{"$f":"'List of Students'!A28","v":19},{"$f":"'PO Attainment'!B47","v":"1GV19EC023"},{"$f":"'PO Attainment'!C47","v":"MARY VINISHA B"},{"$f":"('PO Attainment'!E47+'PO Attainment'!F47+'PO Attainment'!G47)*'PO Attainment'!$AH$19","v":29.6},{"$f":"'PO Attainment'!H47*'PO Attainment'!$AI$19","v":10},39.6]
[{"$f":"'List of Students'!A29","v":20},{"$f":"'PO Attainment'!B48","v":"1GV19EC024"},{"$f":"'PO Attainment'!C48","v":"MOHAMMED IRFAN"},{"$f":"('PO Attainment'!E48+'PO Attainment'!F48+'PO Attainment'!G48)*'PO Attainment'!$AH$19","v":33.6},{"$f":"'PO Attainment'!H48*'PO Attainment'!$AI$19","v":10},43.6]
[{"$f":"'List of Students'!A30","v":21},{"$f":"'PO Attainment'!B49","v":"1GV19EC026"},{"$f":"'PO Attainment'!C49","v":"MOHAN C R"},{"$f":"('PO Attainment'!E49+'PO Attainment'!F49+'PO Attainment'!G49)*'PO Attainment'!$AH$19","v":31.200000000000003},{"$f":"'PO Attainment'!H49*'PO Attainment'!$AI$19","v":10},41.2]
[{"$f":"'List of Students'!A31","v":22},{"$f":"'PO Attainment'!B50","v":"1GV19EC027"},{"$f":"'PO Attainment'!C50","v":"MOUNIKA V"},{"$f":"('PO Attainment'!E50+'PO Attainment'!F50+'PO Attainment'!G50)*'PO Attainment'!$AH$19","v":21.6},{"$f":"'PO Attainment'!H50*'PO Attainment'!$AI$19","v":10},31.6]
[{"$f":"'List of Students'!A32","v":23},{"$f":"'PO Attainment'!B51","v":"1GV19EC028"},{"$f":"'PO Attainment'!C51","v":"MOUNISHA N N"},{"$f":"('PO Attainment'!E51+'PO Attainment'!F51+'PO Attainment'!G51)*'PO Attainment'!$AH$19","v":31.200000000000003},{"$f":"'PO Attainment'!H51*'PO Attainment'!$AI$19","v":10},41.2]
[{"$f":"'List of Students'!A33","v":24},{"$f":"'PO Attainment'!B52","v":"1GV19EC029"},{"$f":"'PO Attainment'!C52","v":"NOMESHWAR V "},{"$f":"('PO Attainment'!E52+'PO Attainment'!F52+'PO Attainment'!G52)*'PO Attainment'!$AH$19","v":28.8},{"$f":"'PO Attainment'!H52*'PO Attainment'!$AI$19","v":10},38.799999999999997]
[{"$f":"'List of Students'!A34","v":25},{"$f":"'PO Attainment'!B53","v":"1GV19EC030"},{"$f":"'PO Attainment'!C53","v":"POOJA G V"},{"$f":"('PO Attainment'!E53+'PO Attainment'!F53+'PO Attainment'!G53)*'PO Attainment'!$AH$19","v":24},{"$f":"'PO Attainment'!H53*'PO Attainment'!$AI$19","v":10},34]
[{"$f":"'List of Students'!A35","v":26},{"$f":"'PO Attainment'!B54","v":"1GV19EC033"},{"$f":"'PO Attainment'!C54","v":"RISHIKA R"},{"$f":"('PO Attainment'!E54+'PO Attainment'!F54+'PO Attainment'!G54)*'PO Attainment'!$AH$19","v":0},{"$f":"'PO Attainment'!H54*'PO Attainment'!$AI$19","v":10},10]
[{"$f":"'List of Students'!A36","v":27},{"$f":"'PO Attainment'!B55","v":"1GV19EC034"},{"$f":"'PO Attainment'!C55","v":"SAFNA FIRDOUS E K"},{"$f":"('PO Attainment'!E55+'PO Attainment'!F55+'PO Attainment'!G55)*'PO Attainment'!$AH$19","v":24},{"$f":"'PO Attainment'!H55*'PO Attainment'!$AI$19","v":10},34]
[{"$f":"'List of Students'!A37","v":28},{"$f":"'PO Attainment'!B56","v":"1GV19EC035"},{"$f":"'PO Attainment'!C56","v":"SAHANA K"},{"$f":"('PO Attainment'!E56+'PO Attainment'!F56+'PO Attainment'!G56)*'PO Attainment'!$AH$19","v":20.8},{"$f":"'PO Attainment'!H56*'PO Attainment'!$AI$19","v":10},30.8]
[{"$f":"'List of Students'!A38","v":29},{"$f":"'PO Attainment'!B57","v":"1GV19EC036"},{"$f":"'PO Attainment'!C57","v":"SAIMANIMALA S"},{"$f":"('PO Attainment'!E57+'PO Attainment'!F57+'PO Attainment'!G57)*'PO Attainment'!$AH$19","v":24},{"$f":"'PO Attainment'!H57*'PO Attainment'!$AI$19","v":10},34]
[{"$f":"'List of Students'!A39","v":30},{"$f":"'PO Attainment'!B58","v":"1GV19EC037"},{"$f":"'PO Attainment'!C58","v":"SAKTHI RAGAVAN"},{"$f":"('PO Attainment'!E58+'PO Attainment'!F58+'PO Attainment'!G58)*'PO Attainment'!$AH$19","v":29.6},{"$f":"'PO Attainment'!H58*'PO Attainment'!$AI$19","v":10},39.6]
[{"$f":"'List of Students'!A40","v":31},{"$f":"'PO Attainment'!B59","v":"1GV19EC039"},{"$f":"'PO Attainment'!C59","v":"SHARMILA A"},{"$f":"('PO Attainment'!E59+'PO Attainment'!F59+'PO Attainment'!G59)*'PO Attainment'!$AH$19","v":28},{"$f":"'PO Attainment'!H59*'PO Attainment'!$AI$19","v":10},38]
[{"$f":"'List of Students'!A41","v":32},{"$f":"'PO Attainment'!B60","v":"1GV19EC040"},{"$f":"'PO Attainment'!C60","v":"SHYAM KUMAR P"},{"$f":"('PO Attainment'!E60+'PO Attainment'!F60+'PO Attainment'!G60)*'PO Attainment'!$AH$19","v":17.600000000000001},{"$f":"'PO Attainment'!H60*'PO Attainment'!$AI$19","v":10},27.6]
[{"$f":"'List of Students'!A42","v":33},{"$f":"'PO Attainment'!B61","v":"1GV19EC041"},{"$f":"'PO Attainment'!C61","v":"SNEHA N"},{"$f":"('PO Attainment'!E61+'PO Attainment'!F61+'PO Attainment'!G61)*'PO Attainment'!$AH$19","v":29.6},{"$f":"'PO Attainment'!H61*'PO Attainment'!$AI$19","v":10},39.6]
[{"$f":"'List of Students'!A43","v":34},{"$f":"'PO Attainment'!B62","v":"1GV19EC042"},{"$f":"'PO Attainment'!C62","v":"SNEHA S"},{"$f":"('PO Attainment'!E62+'PO Attainment'!F62+'PO Attainment'!G62)*'PO Attainment'!$AH$19","v":22.400000000000002},{"$f":"'PO Attainment'!H62*'PO Attainment'!$AI$19","v":10},32.400000000000006]
[{"$f":"'List of Students'!A44","v":35},{"$f":"'PO Attainment'!B63","v":"1GV19EC043"},{"$f":"'PO Attainment'!C63","v":"SOUJANYA D"},{"$f":"('PO Attainment'!E63+'PO Attainment'!F63+'PO Attainment'!G63)*'PO Attainment'!$AH$19","v":26.400000000000002},{"$f":"'PO Attainment'!H63*'PO Attainment'!$AI$19","v":10},36.400000000000006]
[{"$f":"'List of Students'!A45","v":36},{"$f":"'PO Attainment'!B64","v":"1GV19EC044"},{"$f":"'PO Attainment'!C64","v":"SOWMIYA J"},{"$f":"('PO Attainment'!E64+'PO Attainment'!F64+'PO Attainment'!G64)*'PO Attainment'!$AH$19","v":28.8},{"$f":"'PO Attainment'!H64*'PO Attainment'!$AI$19","v":10},38.799999999999997]
[{"$f":"'List of Students'!A46","v":37},{"$f":"'PO Attainment'!B65","v":"1GV19EC045"},{"$f":"'PO Attainment'!C65","v":"SUJITHA S"},{"$f":"('PO Attainment'!E65+'PO Attainment'!F65+'PO Attainment'!G65)*'PO Attainment'!$AH$19","v":33.6},{"$f":"'PO Attainment'!H65*'PO Attainment'!$AI$19","v":10},43.6]
[{"$f":"'List of Students'!A47","v":38},{"$f":"'PO Attainment'!B66","v":"1GV19EC046"},{"$f":"'PO Attainment'!C66","v":"SUMITH R"},{"$f":"('PO Attainment'!E66+'PO Attainment'!F66+'PO Attainment'!G66)*'PO Attainment'!$AH$19","v":25.6},{"$f":"'PO Attainment'!H66*'PO Attainment'!$AI$19","v":10},35.6]
[{"$f":"'List of Students'!A48","v":39},{"$f":"'PO Attainment'!B67","v":"1GV19EC047"},{"$f":"'PO Attainment'!C67","v":"SURYA H G"},{"$f":"('PO Attainment'!E67+'PO Attainment'!F67+'PO Attainment'!G67)*'PO Attainment'!$AH$19","v":16.8},{"$f":"'PO Attainment'!H67*'PO Attainment'!$AI$19","v":10},26.8]
[{"$f":"'List of Students'!A49","v":40},{"$f":"'PO Attainment'!B68","v":"1GV19EC048"},{"$f":"'PO Attainment'!C68","v":"SWETHA T"},{"$f":"('PO Attainment'!E68+'PO Attainment'!F68+'PO Attainment'!G68)*'PO Attainment'!$AH$19","v":28.8},{"$f":"'PO Attainment'!H68*'PO Attainment'!$AI$19","v":10},38.799999999999997]
[{"$f":"'List of Students'!A50","v":41},{"$f":"'PO Attainment'!B69","v":"1GV19EC049"},{"$f":"'PO Attainment'!C69","v":"SYED ASHWAQ AHMED M"},{"$f":"('PO Attainment'!E69+'PO Attainment'!F69+'PO Attainment'!G69)*'PO Attainment'!$AH$19","v":29.6},{"$f":"'PO Attainment'!H69*'PO Attainment'!$AI$19","v":10},39.6]
[{"$f":"'List of Students'!A51","v":42},{"$f":"'PO Attainment'!B70","v":"1GV19EC050"},{"$f":"'PO Attainment'!C70","v":"TRIBHUVAN S R"},{"$f":"('PO Attainment'!E70+'PO Attainment'!F70+'PO Attainment'!G70)*'PO Attainment'!$AH$19","v":18.400000000000002},{"$f":"'PO Attainment'!H70*'PO Attainment'!$AI$19","v":10},28.400000000000002]
[{"$f":"'List of Students'!A52","v":43},{"$f":"'PO Attainment'!B71","v":"1GV19EC051"},{"$f":"'PO Attainment'!C71","v":"VANDANA K"},{"$f":"('PO Attainment'!E71+'PO Attainment'!F71+'PO Attainment'!G71)*'PO Attainment'!$AH$19","v":28},{"$f":"'PO Attainment'!H71*'PO Attainment'!$AI$19","v":10},38]
[{"$f":"'List of Students'!A53","v":44},{"$f":"'PO Attainment'!B72","v":"1GV19EC052"},{"$f":"'PO Attainment'!C72","v":"VARADARAJU D"},{"$f":"('PO Attainment'!E72+'PO Attainment'!F72+'PO Attainment'!G72)*'PO Attainment'!$AH$19","v":23.200000000000003},{"$f":"'PO Attainment'!H72*'PO Attainment'!$AI$19","v":10},33.200000000000003]
[{"$f":"'List of Students'!A54","v":45},{"$f":"'PO Attainment'!B73","v":"1GV19EC053"},{"$f":"'PO Attainment'!C73","v":"VIDHYA G N"},{"$f":"('PO Attainment'!E73+'PO Attainment'!F73+'PO Attainment'!G73)*'PO Attainment'!$AH$19","v":26.400000000000002},{"$f":"'PO Attainment'!H73*'PO Attainment'!$AI$19","v":10},36.400000000000006]
[{"$f":"'List of Students'!A55","v":46},{"$f":"'PO Attainment'!B74","v":"1GV19EC054"},{"$f":"'PO Attainment'!C74","v":"VIDYA M"},{"$f":"('PO Attainment'!E74+'PO Attainment'!F74+'PO Attainment'!G74)*'PO Attainment'!$AH$19","v":24},{"$f":"'PO Attainment'!H74*'PO Attainment'!$AI$19","v":10},34]
[{"$f":"'List of Students'!A56","v":47},{"$f":"'PO Attainment'!B75","v":"1GV19EC057"},{"$f":"'PO Attainment'!C75","v":"GRITA A"},{"$f":"('PO Attainment'!E75+'PO Attainment'!F75+'PO Attainment'!G75)*'PO Attainment'!$AH$19","v":36.800000000000004},{"$f":"'PO Attainment'!H75*'PO Attainment'!$AI$19","v":10},46.800000000000004]
[{"$f":"'List of Students'!A57","v":48},{"$f":"'PO Attainment'!B76","v":"1GV19EC058"},{"$f":"'PO Attainment'!C76","v":"TABREZ AHMED N"},{"$f":"('PO Attainment'!E76+'PO Attainment'!F76+'PO Attainment'!G76)*'PO Attainment'!$AH$19","v":31.200000000000003},{"$f":"'PO Attainment'!H76*'PO Attainment'!$AI$19","v":10},41.2]
[{"$f":"'List of Students'!A58","v":49},{"$f":"'PO Attainment'!B77","v":"1GV18EC012"},{"$f":"'PO Attainment'!C77","v":"KENNETH BENNY J"},{"$f":"('PO Attainment'!E77+'PO Attainment'!F77+'PO Attainment'!G77)*'PO Attainment'!$AH$19","v":16.8},{"$f":"'PO Attainment'!H77*'PO Attainment'!$AI$19","v":10},26.8]
[{"$f":"'List of Students'!A59","v":50},{"$f":"'PO Attainment'!B78","v":"1GV18EC013"},{"$f":"'PO Attainment'!C78","v":"KEZIA R"},{"$f":"('PO Attainment'!E78+'PO Attainment'!F78+'PO Attainment'!G78)*'PO Attainment'!$AH$19","v":28},{"$f":"'PO Attainment'!H78*'PO Attainment'!$AI$19","v":10},38]
[{"$f":"'List of Students'!A60","v":51},{"$f":"'PO Attainment'!B79","v":"1GV18EC022"},{"$f":"'PO Attainment'!C79","v":"PAVITHRA. P   "},{"$f":"('PO Attainment'!E79+'PO Attainment'!F79+'PO Attainment'!G79)*'PO Attainment'!$AH$19","v":34.4},{"$f":"'PO Attainment'!H79*'PO Attainment'!$AI$19","v":10},44.4]
[{"$f":"'List of Students'!A61","v":52},{"$f":"'PO Attainment'!B80","v":"1GV18EC033"},{"$f":"'PO Attainment'!C80","v":"SHREEJA R"},{"$f":"('PO Attainment'!E80+'PO Attainment'!F80+'PO Attainment'!G80)*'PO Attainment'!$AH$19","v":30.400000000000002},{"$f":"'PO Attainment'!H80*'PO Attainment'!$AI$19","v":10},40.400000000000006]
[{"$f":"'List of Students'!A62","v":53},{"$f":"'PO Attainment'!B81","v":"1GV18EC035"},{"$f":"'PO Attainment'!C81","v":"SIDDHITHA S"},{"$f":"('PO Attainment'!E81+'PO Attainment'!F81+'PO Attainment'!G81)*'PO Attainment'!$AH$19","v":28.8},{"$f":"'PO Attainment'!H81*'PO Attainment'!$AI$19","v":10},38.799999999999997]
[{"$f":"'List of Students'!A63","v":54},{"$f":"'PO Attainment'!B82","v":"1GV17EC047"},{"$f":"'PO Attainment'!C82","v":"TEJESASHWSI ONGOLE Y"},{"$f":"('PO Attainment'!E82+'PO Attainment'!F82+'PO Attainment'!G82)*'PO Attainment'!$AH$19","v":12},{"$f":"'PO Attainment'!H82*'PO Attainment'!$AI$19","v":10},22]
[{"$f":"'List of Students'!A64","v":55},{"$f":"'PO Attainment'!B83","v":"1GV16EC038"},{"$f":"'PO Attainment'!C83","v":"RACHANA K R"},{"$f":"('PO Attainment'!E83+'PO Attainment'!F83+'PO Attainment'!G83)*'PO Attainment'!$AH$19","v":12},{"$f":"'PO Attainment'!H83*'PO Attainment'!$AI$19","v":10},22]
[{"$f":"'List of Students'!A65","v":56},{"$f":"'PO Attainment'!B84","v":"1GV20EC400"},{"$f":"'PO Attainment'!C84","v":"ARUN KUMAR N"},{"$f":"('PO Attainment'!E84+'PO Attainment'!F84+'PO Attainment'!G84)*'PO Attainment'!$AH$19","v":0},{"$f":"'PO Attainment'!H84*'PO Attainment'!$AI$19","v":10},10]
[{"$f":"'List of Students'!A66","v":57},{"$f":"'PO Attainment'!B85","v":"1GV20EC401"},{"$f":"'PO Attainment'!C85","v":"BHUVANESH KUMAR U"},{"$f":"('PO Attainment'!E85+'PO Attainment'!F85+'PO Attainment'!G85)*'PO Attainment'!$AH$19","v":17.600000000000001},{"$f":"'PO Attainment'!H85*'PO Attainment'!$AI$19","v":10},27.6]
[{"$f":"'List of Students'!A67","v":58},{"$f":"'PO Attainment'!B86","v":"1GV20EC402"},{"$f":"'PO Attainment'!C86","v":"CHANDRALEKHA M"},{"$f":"('PO Attainment'!E86+'PO Attainment'!F86+'PO Attainment'!G86)*'PO Attainment'!$AH$19","v":27.200000000000003},{"$f":"'PO Attainment'!H86*'PO Attainment'!$AI$19","v":10},37.200000000000003]
[{"$f":"'List of Students'!A68","v":59},{"$f":"'PO Attainment'!B87","v":"1GV20EC404"},{"$f":"'PO Attainment'!C87","v":"VEDASHREE GM"},{"$f":"('PO Attainment'!E87+'PO Attainment'!F87+'PO Attainment'!G87)*'PO Attainment'!$AH$19","v":27.200000000000003},{"$f":"'PO Attainment'!H87*'PO Attainment'!$AI$19","v":10},37.200000000000003]
[{"$f":"'List of Students'!A69","v":60},{"$f":"'PO Attainment'!B88","v":"1GV20EC405"},{"$f":"'PO Attainment'!C88","v":"VIJAYKUMAR R"},{"$f":"('PO Attainment'!E88+'PO Attainment'!F88+'PO Attainment'!G88)*'PO Attainment'!$AH$19","v":20.8},{"$f":"'PO Attainment'!H88*'PO Attainment'!$AI$19","v":10},30.8]

{"sheet":"T1A","index":3,"n_rows":56,"n_cols":4,"rows_kept":56,"cut":false,"hidden":false,"merged":[[23,3,24,3],[25,3,26,3],[53,0,54,0],[53,1,54,1],[45,0,45,3],[46,0,46,3],[47,0,47,3],[48,0,48,1],[23,1,24,1],[23,2,24,2],[25,1,26,1],[25,2,26,2],[55,0,56,0],[55,1,56,1],[53,2,54,2],[55,2,56,2],[53,3,54,3],[55,3,56,3],[3,0,3,2],[11,0,12,0],[11,1,12,1],[11,2,12,3],[4,0,4,3],[5,0,5,3],[6,0,6,3],[7,0,7,1],[18,2,18,3],[19,0,19,1],[20,0,20,1],[13,2,13,3],[14,2,14,3],[15,2,15,3],[16,2,16,3],[17,2,17,3],[19,2,19,3],[20,2,20,3]]}
[]
[]
[]
["F.No:DrTTIT/IQAC/2020-21/066AP"]
[{"$f":"\"Department of \" &'PO Attainment'!C6 &\" Engineering\"","v":"Department of Electronics & Communication Engineering"}]
["Internal Examination Result Analysis"]
["Second Internal Test"]
[null,null,"Date:"]
["Semester:",{"$f":"'PO Attainment'!C5","v":"IV"},"Academic Year:",{"$f":"'PO Attainment'!C8","v":"2020-21"}]
["Course: ",{"$f":"'PO Attainment'!C7","v":"SIGNALS AND SYSTEMS"},"Course Code:",{"$f":"'PO Attainment'!S7","v":"18EC45"}]
[]
["Sl.No."]
[]
[1,"Total No. of Students:",{"$f":"'PO Attainment'!S8","v":60}]
[2,"No. of Students Absent:"]
[3,"No. of Students Appeared:",{"$f":"'PO Attainment'!S8-C15","v":60}]
[4,"No. of Students Passed:",{"$f":"'T1'!J3","v":58}]
[5,"No. of Students Failed:",{"$f":"C14-C17","v":2}]
[6,"Percentage of Pass"]
["Based on Total Students: :",null,{"$f":"(C17/C14)*100","v":96.666666666666671}]
["     Based on Students Appeared:",null,{"$f":"(C17/C16)*100","v":96.666666666666671}]
[]
[null,"Result Analysis"]
[null,"Description","Below 40%","Above 75%"]
[]
[null,"No. of Students",{"$f":"C18","v":2},{"$f":"'T1'!K3","v":50}]
[]
[]
[]
["           Course Instructor                                                                           HOD"]
[]
[]
[]
[]
[]
[]
[]
[]
[]
[]
[]
[]
[]
[]
[]
[{"$f":"\"Department of \" &'PO Attainment'!C6 &\" Engineering\"","v":"Department of Electronics & Communication Engineering"}]
["Internal Examination Result Analysis"]
["First Internal Test"]
[null,null,"Date:"]
["Semester:",{"$f":"B9","v":"IV"},"Academic Year:",{"$f":"D9","v":"2020-21"}]
["Course:",{"$f":"B10","v":"SIGNALS AND SYSTEMS"},"Course Code:",{"$f":"D10","v":"18EC45"}]
[]
[]
["No. of Students","No.of students failed","No.of students passed","No.of students scored above 75%"]
[]
[{"$f":"C14","v":60},{"$f":"C18","v":2},{"$f":"C17","v":58},{"$f":"D26","v":50}]

{"sheet":"CAR1","index":4,"n_rows":22,"n_cols":8,"rows_kept":22,"cut":false,"hidden":false,"merged":[[13,5,13,6],[13,0,13,1],[15,4,15,6],[17,4,17,6],[15,1,15,2],[16,1,16,2],[17,1,17,2],[13,2,13,3],[16,4,16,6],[3,0,6,7],[7,0,8,7],[9,0,9,7],[10,0,11,7],[12,5,12,6],[12,0,12,1],[12,2,12,3]]}
[]
[]
[]
["F.No: DrTTIT/IQAC/2020-21/066BP"]
[]
[]
[]
[{"$f":"\"Department of \" &'PO Attainment'!C6 &\" Engineering\"","v":"Department of Electronics & Communication Engineering"}]
[]
["First   Internal Test"]
["Corrective Action Report"]
[]
["Semester:",null,{"$f":"'PO Attainment'!C5","v":"IV"},null,null,"Academic Year:",null,{"$f":"'PO Attainment'!C8","v":"2020-21"}]
["Course:",null,{"$f":"'PO Attainment'!C7","v":"SIGNALS AND SYSTEMS"},null,null,"Course Code:",null,{"$f":"'PO Attainment'!S7","v":"18EC45"}]
[null,"      "]
["Sl.No.","Range of unit test marks %",null,"No of Students","Actions taken to improve the performance",null,null,"Remarks"]
[1,"Below  40%",null,{"$f":"T1A!C26","v":2}]
[2,">75%",null,{"$f":"T1A!D26","v":50}]
[]
[]
[]
["Course Instructor",null,null,"                                                                     HOD"]

{"sheet":"T2","index":5,"n_rows":71,"n_cols":11,"rows_kept":71,"cut":false,"hidden":false,"merged":[[3,0,3,5],[4,0,4,5],[5,0,5,5],[6,0,6,5],[7,4,7,5]]}
[]
[]
[null,null,null,null,null,null,null,null,{"$f":"'PO Attainment'!S8","v":60},{"$f":"COUNTIF(F10:F69,\">=15.5\")","v":58},{"$f":"COUNTIF(F10:F69,\">30\")","v":53}]
["F.No-DrTTIT/IQAC/2020-21/066IAP"]
[{"$f":"\"Department of \" &'PO Attainment'!C6 &\" Engineering\"","v":"Department of Electronics & Communication Engineering"}]
["Academic Year 2020-21"]
["Internal Test - IA2"]
["Sem ",{"$f":"'PO Attainment'!C5","v":"IV"}]
["Sl.No","USN","Name of the Student ","IA Marks","Assgn Marks","Total marks"]
[{"$f":"'PO Attainment'!A29","v":1},{"$f":"'PO Attainment'!B29","v":"1GV19EC002"},{"$f":"'PO Attainment'!C29","v":"AKSHAYA K A"},{"$f":"('PO Attainment'!I29+'PO Attainment'!J29+'PO Attainment'!K29)*'PO Attainment'!$AH$19","v":33.6},{"$f":"'PO Attainment'!L29*'PO Attainment'!$AI$19","v":10},{"$f":"D10+E10","v":43.6}]
[{"$f":"'PO Attainment'!A30","v":2},{"$f":"'PO Attainment'!B30","v":"1GV19EC003"},{"$f":"'PO Attainment'!C30","v":"AVINASH BABU B"},{"$f":"('PO Attainment'!I30+'PO Attainment'!J30+'PO Attainment'!K30)*'PO Attainment'!$AH$19","v":28},{"$f":"'PO Attainment'!L30*'PO Attainment'!$AI$19","v":10},{"$f":"D11+E11","v":38}]
[{"$f":"'PO Attainment'!A31","v":3},{"$f":"'PO Attainment'!B31","v":"1GV19EC005"},{"$f":"'PO Attainment'!C31","v":"BHARATH KUMAR R"},{"$f":"('PO Attainment'!I31+'PO Attainment'!J31+'PO Attainment'!K31)*'PO Attainment'!$AH$19","v":22.400000000000002},{"$f":"'PO Attainment'!L31*'PO Attainment'!$AI$19","v":10},32.400000000000006]
[{"$f":"'PO Attainment'!A32","v":4},{"$f":"'PO Attainment'!B32","v":"1GV19EC006"},{"$f":"'PO Attainment'!C32","v":"BHARGAVI S"},{"$f":"('PO Attainment'!I32+'PO Attainment'!J32+'PO Attainment'!K32)*'PO Attainment'!$AH$19","v":35.200000000000003},{"$f":"'PO Attainment'!L32*'PO Attainment'!$AI$19","v":10},45.2]
[{"$f":"'PO Attainment'!A33","v":5},{"$f":"'PO Attainment'!B33","v":"1GV19EC007"},{"$f":"'PO Attainment'!C33","v":"CHAITHANYA K K V"},{"$f":"('PO Attainment'!I33+'PO Attainment'!J33+'PO Attainment'!K33)*'PO Attainment'!$AH$19","v":33.6},{"$f":"'PO Attainment'!L33*'PO Attainment'!$AI$19","v":10},43.6]
[{"$f":"'PO Attainment'!A34","v":6},{"$f":"'PO Attainment'!B34","v":"1GV19EC008"},{"$f":"'PO Attainment'!C34","v":"DEEPAK R"},{"$f":"('PO Attainment'!I34+'PO Attainment'!J34+'PO Attainment'!K34)*'PO Attainment'!$AH$19","v":28},{"$f":"'PO Attainment'!L34*'PO Attainment'!$AI$19","v":10},38]
[{"$f":"'PO Attainment'!A35","v":7},{"$f":"'PO Attainment'!B35","v":"1GV19EC009"},{"$f":"'PO Attainment'!C35","v":"DIVYA PRIYA G R"},{"$f":"('PO Attainment'!I35+'PO Attainment'!J35+'PO Attainment'!K35)*'PO Attainment'!$AH$19","v":37.6},{"$f":"'PO Attainment'!L35*'PO Attainment'!$AI$19","v":10},47.6]
[{"$f":"'PO Attainment'!A36","v":8},{"$f":"'PO Attainment'!B36","v":"1GV19EC010"},{"$f":"'PO Attainment'!C36","v":"DIVYA SWETHA J"},{"$f":"('PO Attainment'!I36+'PO Attainment'!J36+'PO Attainment'!K36)*'PO Attainment'!$AH$19","v":37.6},{"$f":"'PO Attainment'!L36*'PO Attainment'!$AI$19","v":10},47.6]
[{"$f":"'PO Attainment'!A37","v":9},{"$f":"'PO Attainment'!B37","v":"1GV19EC011"},{"$f":"'PO Attainment'!C37","v":"EVANGELIN P"},{"$f":"('PO Attainment'!I37+'PO Attainment'!J37+'PO Attainment'!K37)*'PO Attainment'!$AH$19","v":28},{"$f":"'PO Attainment'!L37*'PO Attainment'!$AI$19","v":10},38]
[{"$f":"'PO Attainment'!A38","v":10},{"$f":"'PO Attainment'!B38","v":"1GV19EC012"},{"$f":"'PO Attainment'!C38","v":"FARHEEN TAJ"},{"$f":"('PO Attainment'!I38+'PO Attainment'!J38+'PO Attainment'!K38)*'PO Attainment'!$AH$19","v":33.6},{"$f":"'PO Attainment'!L38*'PO Attainment'!$AI$19","v":10},43.6]
[{"$f":"'PO Attainment'!A39","v":11},{"$f":"'PO Attainment'!B39","v":"1GV19EC014"},{"$f":"'PO Attainment'!C39","v":"HARISHAKTHI N"},{"$f":"('PO Attainment'!I39+'PO Attainment'!J39+'PO Attainment'!K39)*'PO Attainment'!$AH$19","v":28},{"$f":"'PO Attainment'!L39*'PO Attainment'!$AI$19","v":10},38]
[{"$f":"'PO Attainment'!A40","v":12},{"$f":"'PO Attainment'!B40","v":"1GV19EC015"},{"$f":"'PO Attainment'!C40","v":"JAISHNAVI U"},{"$f":"('PO Attainment'!I40+'PO Attainment'!J40+'PO Attainment'!K40)*'PO Attainment'!$AH$19","v":28},{"$f":"'PO Attainment'!L40*'PO Attainment'!$AI$19","v":10},38]
[{"$f":"'PO Attainment'!A41","v":13},{"$f":"'PO Attainment'!B41","v":"1GV19EC017"},{"$f":"'PO Attainment'!C41","v":"KANISHA R"},{"$f":"('PO Attainment'!I41+'PO Attainment'!J41+'PO Attainment'!K41)*'PO Attainment'!$AH$19","v":32},{"$f":"'PO Attainment'!L41*'PO Attainment'!$AI$19","v":10},42]
[{"$f":"'PO Attainment'!A42","v":14},{"$f":"'PO Attainment'!B42","v":"1GV19EC018"},{"$f":"'PO Attainment'!C42","v":"KAVYA RAJ"},{"$f":"('PO Attainment'!I42+'PO Attainment'!J42+'PO Attainment'!K42)*'PO Attainment'!$AH$19","v":32},{"$f":"'PO Attainment'!L42*'PO Attainment'!$AI$19","v":10},42]
[{"$f":"'PO Attainment'!A43","v":15},{"$f":"'PO Attainment'!B43","v":"1GV19EC019"},{"$f":"'PO Attainment'!C43","v":"KEERTHANA B S"},{"$f":"('PO Attainment'!I43+'PO Attainment'!J43+'PO Attainment'!K43)*'PO Attainment'!$AH$19","v":32},{"$f":"'PO Attainment'!L43*'PO Attainment'!$AI$19","v":10},42]
[{"$f":"'PO Attainment'!A44","v":16},{"$f":"'PO Attainment'!B44","v":"1GV19EC020"},{"$f":"'PO Attainment'!C44","v":"KRITHIKA A"},{"$f":"('PO Attainment'!I44+'PO Attainment'!J44+'PO Attainment'!K44)*'PO Attainment'!$AH$19","v":24},{"$f":"'PO Attainment'!L44*'PO Attainment'!$AI$19","v":10},34]
[{"$f":"'PO Attainment'!A45","v":17},{"$f":"'PO Attainment'!B45","v":"1GV19EC021"},{"$f":"'PO Attainment'!C45","v":"LEEKATH UNNISSA A"},{"$f":"('PO Attainment'!I45+'PO Attainment'!J45+'PO Attainment'!K45)*'PO Attainment'!$AH$19","v":35.200000000000003},{"$f":"'PO Attainment'!L45*'PO Attainment'!$AI$19","v":10},45.2]
[{"$f":"'PO Attainment'!A46","v":18},{"$f":"'PO Attainment'!B46","v":"1GV19EC022"},{"$f":"'PO Attainment'!C46","v":"MAHALAKSHMI S"},{"$f":"('PO Attainment'!I46+'PO Attainment'!J46+'PO Attainment'!K46)*'PO Attainment'!$AH$19","v":37.6},{"$f":"'PO Attainment'!L46*'PO Attainment'!$AI$19","v":10},47.6]
[{"$f":"'PO Attainment'!A47","v":19},{"$f":"'PO Attainment'!B47","v":"1GV19EC023"},{"$f":"'PO Attainment'!C47","v":"MARY VINISHA B"},{"$f":"('PO Attainment'!I47+'PO Attainment'!J47+'PO Attainment'!K47)*'PO Attainment'!$AH$19","v":33.6},{"$f":"'PO Attainment'!L47*'PO Attainment'!$AI$19","v":10},43.6]
[{"$f":"'PO Attainment'!A48","v":20},{"$f":"'PO Attainment'!B48","v":"1GV19EC024"},{"$f":"'PO Attainment'!C48","v":"MOHAMMED IRFAN"},{"$f":"('PO Attainment'!I48+'PO Attainment'!J48+'PO Attainment'!K48)*'PO Attainment'!$AH$19","v":33.6},{"$f":"'PO Attainment'!L48*'PO Attainment'!$AI$19","v":10},43.6]
[{"$f":"'PO Attainment'!A49","v":21},{"$f":"'PO Attainment'!B49","v":"1GV19EC026"},{"$f":"'PO Attainment'!C49","v":"MOHAN C R"},{"$f":"('PO Attainment'!I49+'PO Attainment'!J49+'PO Attainment'!K49)*'PO Attainment'!$AH$19","v":32},{"$f":"'PO Attainment'!L49*'PO Attainment'!$AI$19","v":10},42]
[{"$f":"'PO Attainment'!A50","v":22},{"$f":"'PO Attainment'!B50","v":"1GV19EC027"},{"$f":"'PO Attainment'!C50","v":"MOUNIKA V"},{"$f":"('PO Attainment'!I50+'PO Attainment'!J50+'PO Attainment'!K50)*'PO Attainment'!$AH$19","v":33.6},{"$f":"'PO Attainment'!L50*'PO Attainment'!$AI$19","v":10},43.6]
[{"$f":"'PO Attainment'!A51","v":23},{"$f":"'PO Attainment'!B51","v":"1GV19EC028"},{"$f":"'PO Attainment'!C51","v":"MOUNISHA N N"},{"$f":"('PO Attainment'!I51+'PO Attainment'!J51+'PO Attainment'!K51)*'PO Attainment'!$AH$19","v":33.6},{"$f":"'PO Attainment'!L51*'PO Attainment'!$AI$19","v":10},43.6]
[{"$f":"'PO Attainment'!A52","v":24},{"$f":"'PO Attainment'!B52","v":"1GV19EC029"},{"$f":"'PO Attainment'!C52","v":"NOMESHWAR V "},{"$f":"('PO Attainment'!I52+'PO Attainment'!J52+'PO Attainment'!K52)*'PO Attainment'!$AH$19","v":32},{"$f":"'PO Attainment'!L52*'PO Attainment'!$AI$19","v":10},42]
[{"$f":"'PO Attainment'!A53","v":25},{"$f":"'PO Attainment'!B53","v":"1GV19EC030"},{"$f":"'PO Attainment'!C53","v":"POOJA G V"},{"$f":"('PO Attainment'!I53+'PO Attainment'!J53+'PO Attainment'!K53)*'PO Attainment'!$AH$19","v":32},{"$f":"'PO Attainment'!L53*'PO Attainment'!$AI$19","v":10},42]
[{"$f":"'PO Attainment'!A54","v":26},{"$f":"'PO Attainment'!B54","v":"1GV19EC033"},{"$f":"'PO Attainment'!C54","v":"RISHIKA R"},{"$f":"('PO Attainment'!I54+'PO Attainment'!J54+'PO Attainment'!K54)*'PO Attainment'!$AH$19","v":0},{"$f":"'PO Attainment'!L54*'PO Attainment'!$AI$19","v":10},10]
[{"$f":"'PO Attainment'!A55","v":27},{"$f":"'PO Attainment'!B55","v":"1GV19EC034"},{"$f":"'PO Attainment'!C55","v":"SAFNA FIRDOUS E K"},{"$f":"('PO Attainment'!I55+'PO Attainment'!J55+'PO Attainment'!K55)*'PO Attainment'!$AH$19","v":33.6},{"$f":"'PO Attainment'!L55*'PO Attainment'!$AI$19","v":10},43.6]
[{"$f":"'PO Attainment'!A56","v":28},{"$f":"'PO Attainment'!B56","v":"1GV19EC035"},{"$f":"'PO Attainment'!C56","v":"SAHANA K"},{"$f":"('PO Attainment'!I56+'PO Attainment'!J56+'PO Attainment'!K56)*'PO Attainment'!$AH$19","v":35.200000000000003},{"$f":"'PO Attainment'!L56*'PO Attainment'!$AI$19","v":10},45.2]
[{"$f":"'PO Attainment'!A57","v":29},{"$f":"'PO Attainment'!B57","v":"1GV19EC036"},{"$f":"'PO Attainment'!C57","v":"SAIMANIMALA S"},{"$f":"('PO Attainment'!I57+'PO Attainment'!J57+'PO Attainment'!K57)*'PO Attainment'!$AH$19","v":35.200000000000003},{"$f":"'PO Attainment'!L57*'PO Attainment'!$AI$19","v":10},45.2]
[{"$f":"'PO Attainment'!A58","v":30},{"$f":"'PO Attainment'!B58","v":"1GV19EC037"},{"$f":"'PO Attainment'!C58","v":"SAKTHI RAGAVAN"},{"$f":"('PO Attainment'!I58+'PO Attainment'!J58+'PO Attainment'!K58)*'PO Attainment'!$AH$19","v":35.200000000000003},{"$f":"'PO Attainment'!L58*'PO Attainment'!$AI$19","v":10},45.2]
[{"$f":"'PO Attainment'!A59","v":31},{"$f":"'PO Attainment'!B59","v":"1GV19EC039"},{"$f":"'PO Attainment'!C59","v":"SHARMILA A"},{"$f":"('PO Attainment'!I59+'PO Attainment'!J59+'PO Attainment'!K59)*'PO Attainment'!$AH$19","v":32},{"$f":"'PO Attainment'!L59*'PO Attainment'!$AI$19","v":10},42]
[{"$f":"'PO Attainment'!A60","v":32},{"$f":"'PO Attainment'!B60","v":"1GV19EC040"},{"$f":"'PO Attainment'!C60","v":"SHYAM KUMAR P"},{"$f":"('PO Attainment'!I60+'PO Attainment'!J60+'PO Attainment'!K60)*'PO Attainment'!$AH$19","v":24},{"$f":"'PO Attainment'!L60*'PO Attainment'!$AI$19","v":10},34]
[{"$f":"'PO Attainment'!A61","v":33},{"$f":"'PO Attainment'!B61","v":"1GV19EC041"},{"$f":"'PO Attainment'!C61","v":"SNEHA N"},{"$f":"('PO Attainment'!I61+'PO Attainment'!J61+'PO Attainment'!K61)*'PO Attainment'!$AH$19","v":32},{"$f":"'PO Attainment'!L61*'PO Attainment'!$AI$19","v":10},42]
[{"$f":"'PO Attainment'!A62","v":34},{"$f":"'PO Attainment'!B62","v":"1GV19EC042"},{"$f":"'PO Attainment'!C62","v":"SNEHA S"},{"$f":"('PO Attainment'!I62+'PO Attainment'!J62+'PO Attainment'!K62)*'PO Attainment'!$AH$19","v":33.6},{"$f":"'PO Attainment'!L62*'PO Attainment'!$AI$19","v":10},43.6]
[{"$f":"'PO Attainment'!A63","v":35},{"$f":"'PO Attainment'!B63","v":"1GV19EC043"},{"$f":"'PO Attainment'!C63","v":"SOUJANYA D"},{"$f":"('PO Attainment'!I63+'PO Attainment'!J63+'PO Attainment'!K63)*'PO Attainment'!$AH$19","v":36.800000000000004},{"$f":"'PO Attainment'!L63*'PO Attainment'!$AI$19","v":10},46.800000000000004]
[{"$f":"'PO Attainment'!A64","v":36},{"$f":"'PO Attainment'!B64","v":"1GV19EC044"},{"$f":"'PO Attainment'!C64","v":"SOWMIYA J"},{"$f":"('PO Attainment'!I64+'PO Attainment'!J64+'PO Attainment'!K64)*'PO Attainment'!$AH$19","v":36.800000000000004},{"$f":"'PO Attainment'!L64*'PO Attainment'!$AI$19","v":10},46.800000000000004]
[{"$f":"'PO Attainment'!A65","v":37},{"$f":"'PO Attainment'!B65","v":"1GV19EC045"},{"$f":"'PO Attainment'!C65","v":"SUJITHA S"},{"$f":"('PO Attainment'!I65+'PO Attainment'!J65+'PO Attainment'!K65)*'PO Attainment'!$AH$19","v":37.6},{"$f":"'PO Attainment'!L65*'PO Attainment'!$AI$19","v":10},47.6]
[{"$f":"'PO Attainment'!A66","v":38},{"$f":"'PO Attainment'!B66","v":"1GV19EC046"},{"$f":"'PO Attainment'!C66","v":"SUMITH R"},{"$f":"('PO Attainment'!I66+'PO Attainment'!J66+'PO Attainment'!K66)*'PO Attainment'!$AH$19","v":33.6},{"$f":"'PO Attainment'!L66*'PO Attainment'!$AI$19","v":10},43.6]
[{"$f":"'PO Attainment'!A67","v":39},{"$f":"'PO Attainment'!B67","v":"1GV19EC047"},{"$f":"'PO Attainment'!C67","v":"SURYA H G"},{"$f":"('PO Attainment'!I67+'PO Attainment'!J67+'PO Attainment'!K67)*'PO Attainment'!$AH$19","v":18.400000000000002},{"$f":"'PO Attainment'!L67*'PO Attainment'!$AI$19","v":10},28.400000000000002]
[{"$f":"'PO Attainment'!A68","v":40},{"$f":"'PO Attainment'!B68","v":"1GV19EC048"},{"$f":"'PO Attainment'!C68","v":"SWETHA T"},{"$f":"('PO Attainment'!I68+'PO Attainment'!J68+'PO Attainment'!K68)*'PO Attainment'!$AH$19","v":32},{"$f":"'PO Attainment'!L68*'PO Attainment'!$AI$19","v":10},42]
[{"$f":"'PO Attainment'!A69","v":41},{"$f":"'PO Attainment'!B69","v":"1GV19EC049"},{"$f":"'PO Attainment'!C69","v":"SYED ASHWAQ AHMED M"},{"$f":"('PO Attainment'!I69+'PO Attainment'!J69+'PO Attainment'!K69)*'PO Attainment'!$AH$19","v":32},{"$f":"'PO Attainment'!L69*'PO Attainment'!$AI$19","v":10},42]
[{"$f":"'PO Attainment'!A70","v":42},{"$f":"'PO Attainment'!B70","v":"1GV19EC050"},{"$f":"'PO Attainment'!C70","v":"TRIBHUVAN S R"},{"$f":"('PO Attainment'!I70+'PO Attainment'!J70+'PO Attainment'!K70)*'PO Attainment'!$AH$19","v":32},{"$f":"'PO Attainment'!L70*'PO Attainment'!$AI$19","v":10},42]
[{"$f":"'PO Attainment'!A71","v":43},{"$f":"'PO Attainment'!B71","v":"1GV19EC051"},{"$f":"'PO Attainment'!C71","v":"VANDANA K"},{"$f":"('PO Attainment'!I71+'PO Attainment'!J71+'PO Attainment'!K71)*'PO Attainment'!$AH$19","v":33.6},{"$f":"'PO Attainment'!L71*'PO Attainment'!$AI$19","v":10},43.6]
[{"$f":"'PO Attainment'!A72","v":44},{"$f":"'PO Attainment'!B72","v":"1GV19EC052"},{"$f":"'PO Attainment'!C72","v":"VARADARAJU D"},{"$f":"('PO Attainment'!I72+'PO Attainment'!J72+'PO Attainment'!K72)*'PO Attainment'!$AH$19","v":28},{"$f":"'PO Attainment'!L72*'PO Attainment'!$AI$19","v":10},38]
[{"$f":"'PO Attainment'!A73","v":45},{"$f":"'PO Attainment'!B73","v":"1GV19EC053"},{"$f":"'PO Attainment'!C73","v":"VIDHYA G N"},{"$f":"('PO Attainment'!I73+'PO Attainment'!J73+'PO Attainment'!K73)*'PO Attainment'!$AH$19","v":33.6},{"$f":"'PO Attainment'!L73*'PO Attainment'!$AI$19","v":10},43.6]
[{"$f":"'PO Attainment'!A74","v":46},{"$f":"'PO Attainment'!B74","v":"1GV19EC054"},{"$f":"'PO Attainment'!C74","v":"VIDYA M"},{"$f":"('PO Attainment'!I74+'PO Attainment'!J74+'PO Attainment'!K74)*'PO Attainment'!$AH$19","v":32},{"$f":"'PO Attainment'!L74*'PO Attainment'!$AI$19","v":10},42]
[{"$f":"'PO Attainment'!A75","v":47},{"$f":"'PO Attainment'!B75","v":"1GV19EC057"},{"$f":"'PO Attainment'!C75","v":"GRITA A"},{"$f":"('PO Attainment'!I75+'PO Attainment'!J75+'PO Attainment'!K75)*'PO Attainment'!$AH$19","v":37.6},{"$f":"'PO Attainment'!L75*'PO Attainment'!$AI$19","v":10},47.6]
[{"$f":"'PO Attainment'!A76","v":48},{"$f":"'PO Attainment'!B76","v":"1GV19EC058"},{"$f":"'PO Attainment'!C76","v":"TABREZ AHMED N"},{"$f":"('PO Attainment'!I76+'PO Attainment'!J76+'PO Attainment'!K76)*'PO Attainment'!$AH$19","v":12},{"$f":"'PO Attainment'!L76*'PO Attainment'!$AI$19","v":10},22]
[{"$f":"'PO Attainment'!A77","v":49},{"$f":"'PO Attainment'!B77","v":"1GV18EC012"},{"$f":"'PO Attainment'!C77","v":"KENNETH BENNY J"},{"$f":"('PO Attainment'!I77+'PO Attainment'!J77+'PO Attainment'!K77)*'PO Attainment'!$AH$19","v":32},{"$f":"'PO Attainment'!L77*'PO Attainment'!$AI$19","v":10},42]
[{"$f":"'PO Attainment'!A78","v":50},{"$f":"'PO Attainment'!B78","v":"1GV18EC013"},{"$f":"'PO Attainment'!C78","v":"KEZIA R"},{"$f":"('PO Attainment'!I78+'PO Attainment'!J78+'PO Attainment'!K78)*'PO Attainment'!$AH$19","v":33.6},{"$f":"'PO Attainment'!L78*'PO Attainment'!$AI$19","v":10},43.6]
[{"$f":"'PO Attainment'!A79","v":51},{"$f":"'PO Attainment'!B79","v":"1GV18EC022"},{"$f":"'PO Attainment'!C79","v":"PAVITHRA. P   "},{"$f":"('PO Attainment'!I79+'PO Attainment'!J79+'PO Attainment'!K79)*'PO Attainment'!$AH$19","v":19.200000000000003},{"$f":"'PO Attainment'!L79*'PO Attainment'!$AI$19","v":10},29.200000000000003]
[{"$f":"'PO Attainment'!A80","v":52},{"$f":"'PO Attainment'!B80","v":"1GV18EC033"},{"$f":"'PO Attainment'!C80","v":"SHREEJA R"},{"$f":"('PO Attainment'!I80+'PO Attainment'!J80+'PO Attainment'!K80)*'PO Attainment'!$AH$19","v":33.6},{"$f":"'PO Attainment'!L80*'PO Attainment'!$AI$19","v":10},43.6]
[{"$f":"'PO Attainment'!A81","v":53},{"$f":"'PO Attainment'!B81","v":"1GV18EC035"},{"$f":"'PO Attainment'!C81","v":"SIDDHITHA S"},{"$f":"('PO Attainment'!I81+'PO Attainment'!J81+'PO Attainment'!K81)*'PO Attainment'!$AH$19","v":33.6},{"$f":"'PO Attainment'!L81*'PO Attainment'!$AI$19","v":10},43.6]
[{"$f":"'PO Attainment'!A82","v":54},{"$f":"'PO Attainment'!B82","v":"1GV17EC047"},{"$f":"'PO Attainment'!C82","v":"TEJESASHWSI ONGOLE Y"},{"$f":"('PO Attainment'!I82+'PO Attainment'!J82+'PO Attainment'!K82)*'PO Attainment'!$AH$19","v":16},{"$f":"'PO Attainment'!L82*'PO Attainment'!$AI$19","v":10},26]
[{"$f":"'PO Attainment'!A83","v":55},{"$f":"'PO Attainment'!B83","v":"1GV16EC038"},{"$f":"'PO Attainment'!C83","v":"RACHANA K R"},{"$f":"('PO Attainment'!I83+'PO Attainment'!J83+'PO Attainment'!K83)*'PO Attainment'!$AH$19","v":18.400000000000002},{"$f":"'PO Attainment'!L83*'PO Attainment'!$AI$19","v":10},28.400000000000002]
[{"$f":"'PO Attainment'!A84","v":56},{"$f":"'PO Attainment'!B84","v":"1GV20EC400"},{"$f":"'PO Attainment'!C84","v":"ARUN KUMAR N"},{"$f":"('PO Attainment'!I84+'PO Attainment'!J84+'PO Attainment'!K84)*'PO Attainment'!$AH$19","v":0},{"$f":"'PO Attainment'!L84*'PO Attainment'!$AI$19","v":10},10]
[{"$f":"'PO Attainment'!A85","v":57},{"$f":"'PO Attainment'!B85","v":"1GV20EC401"},{"$f":"'PO Attainment'!C85","v":"BHUVANESH KUMAR U"},{"$f":"('PO Attainment'!I85+'PO Attainment'!J85+'PO Attainment'!K85)*'PO Attainment'!$AH$19","v":28},{"$f":"'PO Attainment'!L85*'PO Attainment'!$AI$19","v":10},38]
[{"$f":"'PO Attainment'!A86","v":58},{"$f":"'PO Attainment'!B86","v":"1GV20EC402"},{"$f":"'PO Attainment'!C86","v":"CHANDRALEKHA M"},{"$f":"('PO Attainment'!I86+'PO Attainment'!J86+'PO Attainment'!K86)*'PO Attainment'!$AH$19","v":33.6},{"$f":"'PO Attainment'!L86*'PO Attainment'!$AI$19","v":10},43.6]
[{"$f":"'PO Attainment'!A87","v":59},{"$f":"'PO Attainment'!B87","v":"1GV20EC404"},{"$f":"'PO Attainment'!C87","v":"VEDASHREE GM"},{"$f":"('PO Attainment'!I87+'PO Attainment'!J87+'PO Attainment'!K87)*'PO Attainment'!$AH$19","v":35.200000000000003},{"$f":"'PO Attainment'!L87*'PO Attainment'!$AI$19","v":10},45.2]
[{"$f":"'PO Attainment'!A88","v":60},{"$f":"'PO Attainment'!B88","v":"1GV20EC405"},{"$f":"'PO Attainment'!C88","v":"VIJAYKUMAR R"},{"$f":"('PO Attainment'!I88+'PO Attainment'!J88+'PO Attainment'!K88)*'PO Attainment'!$AH$19","v":24},{"$f":"'PO Attainment'!L88*'PO Attainment'!$AI$19","v":10},34]
[]
["Course Instructor"]

{"sheet":"T2A ","index":6,"n_rows":56,"n_cols":4,"rows_kept":56,"cut":false,"hidden":false,"merged":[[19,2,19,3],[3,0,3,2],[4,0,4,3],[5,0,5,3],[6,0,6,3],[7,0,7,1],[11,0,12,0],[11,1,12,1],[11,2,12,3],[13,2,13,3],[14,2,14,3],[15,2,15,3],[16,2,16,3],[17,2,17,3],[23,1,24,1],[23,2,24,2],[23,3,24,3],[25,1,26,1],[25,2,26,2],[25,3,26,3],[55,0,56,0],[55,1,56,1],[55,2,56,2],[55,3,56,3],[18,2,18,3],[19,0,19,1],[20,0,20,1],[45,0,45,3],[46,0,46,3],[47,0,47,3],[48,0,48,1],[53,0,54,0],[53,1,54,1],[53,2,54,2],[53,3,54,3],[20,2,20,3]]}
[]
[]
[]
["F.No:DrTTIT/IQAC/2020-21/066AP"]
[{"$f":"\"Department of \" &'PO Attainment'!C6 &\" Engineering\"","v":"Department of Electronics & Communication Engineering"}]
["Internal Examination Result Analysis"]
["Second Internal Test"]
[null,null,"Date:"]
["Semester:",{"$f":"'PO Attainment'!C5","v":"IV"},"Academic Year:",{"$f":"'PO Attainment'!C8","v":"2020-21"}]
["Course: ",{"$f":"'PO Attainment'!C7","v":"SIGNALS AND SYSTEMS"},"Course Code:",{"$f":"'PO Attainment'!S7","v":"18EC45"}]
[]
["Sl.No"]
[]
[1,"Total No. of Students:",{"$f":"'PO Attainment'!S8","v":60}]
[2,"No. of Students Absent:"]
[3,"No. of Students Appeared:",{"$f":"'PO Attainment'!S8-C15","v":60}]
[4,"No. of Students Passed:",{"$f":"'T2'!J3","v":58}]
[5,"No. of Students Failed:",{"$f":"C14-C17","v":2}]
[6,"Percentage of Pass"]
["Based on Total Students: :",null,{"$f":"(C17/C14)*100","v":96.666666666666671}]
["     Based on Students Appeared:",null,{"$f":"(C17/C16)*100","v":96.666666666666671}]
[]
[null,"Result Analysis"]
[null,"Description","Below 40%","Above 75%"]
[]
[null,"No. of Students",{"$f":"C18","v":2},{"$f":"'T2'!K3","v":53}]
[]
[]
[]
["           Course Instructor                                                                           HOD"]
[]
[]
[]
[]
[]
[]
[]
[]
[]
[]
[]
[]
[]
[]
[]
[{"$f":"\"Department of \" &'PO Attainment'!C6 &\" Engineering\"","v":"Department of Electronics & Communication Engineering"}]
["Internal Examination Result Analysis"]
["Second Internal Test"]
[null,null,"Date:"]
["Semester:",{"$f":"B9","v":"IV"},"Academic Year:",{"$f":"D9","v":"2020-21"}]
["Course: ",{"$f":"B10","v":"SIGNALS AND SYSTEMS"},"Course Code:",{"$f":"D10","v":"18EC45"}]
[]
[]
["No. of Students","No.of students failed","No.of students passed","No.of students scored above 75%"]
[]
[{"$f":"C14","v":60},{"$f":"C18","v":2},{"$f":"C17","v":58},{"$f":"D26","v":53}]

{"sheet":"CAR2","index":7,"n_rows":22,"n_cols":8,"rows_kept":22,"cut":false,"hidden":false,"merged":[[17,1,17,2],[17,4,17,6],[13,0,13,1],[13,2,13,3],[13,5,13,6],[15,1,15,2],[15,4,15,6],[16,1,16,2],[16,4,16,6],[3,0,6,7],[7,0,8,7],[9,0,9,7],[10,0,11,7],[12,0,12,1],[12,5,12,6],[12,2,12,3]]}
[]
[]
[]
["F.No: DrTTIT/IQAC/2020-21/066BP"]
[]
[]
[]
[{"$f":"\"Department of \" &'PO Attainment'!C6 &\" Engineering\"","v":"Department of Electronics & Communication Engineering"}]
[]
["Second  Internal Test"]
["Corrective Action Report"]
[]
["Semester:",null,{"$f":"'PO Attainment'!C5","v":"IV"},null,null,"Academic Year:",null,{"$f":"'PO Attainment'!C8","v":"2020-21"}]
["Course:",null,{"$f":"'PO Attainment'!C7","v":"SIGNALS AND SYSTEMS"},null,null,"Course Code:",null,{"$f":"'PO Attainment'!S7","v":"18EC45"}]
[null,"      "]
["Sl.No.","Range of unit test marks %",null,"No of Students","Actions taken to improve the performance",null,null,"Remarks"]
[1,"Below  40%",null,{"$f":"'T2A '!C26","v":2}]
[2,">75%",null,{"$f":"'T2A '!D26","v":53}]
[]
[]
[]
["Course Instructor",null,null,"                                                                     HOD"]

{"sheet":"T3","index":8,"n_rows":71,"n_cols":11,"rows_kept":71,"cut":false,"hidden":false,"merged":[[3,0,3,5],[4,0,4,5],[5,0,5,5],[6,0,6,5],[7,4,7,5]]}
[]
[]
[null,null,null,null,null,null,null,null,{"$f":"'PO Attainment'!S8","v":60},{"$f":"COUNTIF(F10:F69,\">=15.5\")","v":53},{"$f":"COUNTIF(F10:F69,\">30\")","v":31}]
["F.No-DrTTIT/IQAC/2020-21/066IAP"]
[{"$f":"\"Department of \" &'PO Attainment'!C6 &\" Engineering\"","v":"Department of Electronics & Communication Engineering"}]
["Academic Year 2020-21"]
["Internal Test - IA3"]
["Sem",{"$f":"'PO Attainment'!C5","v":"IV"}]
["Sl.No","USN","Name of the Student ","IA Marks","Assgn Marks","Total marks"]
[{"$f":"'PO Attainment'!A29","v":1},{"$f":"'PO Attainment'!B29","v":"1GV19EC002"},{"$f":"'PO Attainment'!C29","v":"AKSHAYA K A"},{"$f":"('PO Attainment'!M29+'PO Attainment'!N29+'PO Attainment'!O29)*'PO Attainment'!$AH$19","v":27.200000000000003},{"$f":"'PO Attainment'!P29*'PO Attainment'!$AI$19","v":10},{"$f":"D10+E10","v":37.200000000000003}]
[{"$f":"'PO Attainment'!A30","v":2},{"$f":"'PO Attainment'!B30","v":"1GV19EC003"},{"$f":"'PO Attainment'!C30","v":"AVINASH BABU B"},{"$f":"('PO Attainment'!M30+'PO Attainment'!N30+'PO Attainment'!O30)*'PO Attainment'!$AH$19","v":6.4},{"$f":"'PO Attainment'!P30*'PO Attainment'!$AI$19","v":10},{"$f":"D11+E11","v":16.399999999999999}]
[{"$f":"'PO Attainment'!A31","v":3},{"$f":"'PO Attainment'!B31","v":"1GV19EC005"},{"$f":"'PO Attainment'!C31","v":"BHARATH KUMAR R"},{"$f":"('PO Attainment'!M31+'PO Attainment'!N31+'PO Attainment'!O31)*'PO Attainment'!$AH$19","v":4.8000000000000007},{"$f":"'PO Attainment'!P31*'PO Attainment'!$AI$19","v":10},14.8]
[{"$f":"'PO Attainment'!A32","v":4},{"$f":"'PO Attainment'!B32","v":"1GV19EC006"},{"$f":"'PO Attainment'!C32","v":"BHARGAVI S"},{"$f":"('PO Attainment'!M32+'PO Attainment'!N32+'PO Attainment'!O32)*'PO Attainment'!$AH$19","v":36},{"$f":"'PO Attainment'!P32*'PO Attainment'!$AI$19","v":10},46]
[{"$f":"'PO Attainment'!A33","v":5},{"$f":"'PO Attainment'!B33","v":"1GV19EC007"},{"$f":"'PO Attainment'!C33","v":"CHAITHANYA K K V"},{"$f":"('PO Attainment'!M33+'PO Attainment'!N33+'PO Attainment'!O33)*'PO Attainment'!$AH$19","v":9.6000000000000014},{"$f":"'PO Attainment'!P33*'PO Attainment'!$AI$19","v":10},19.600000000000001]
[{"$f":"'PO Attainment'!A34","v":6},{"$f":"'PO Attainment'!B34","v":"1GV19EC008"},{"$f":"'PO Attainment'!C34","v":"DEEPAK R"},{"$f":"('PO Attainment'!M34+'PO Attainment'!N34+'PO Attainment'!O34)*'PO Attainment'!$AH$19","v":20},{"$f":"'PO Attainment'!P34*'PO Attainment'!$AI$19","v":10},30]
[{"$f":"'PO Attainment'!A35","v":7},{"$f":"'PO Attainment'!B35","v":"1GV19EC009"},{"$f":"'PO Attainment'!C35","v":"DIVYA PRIYA G R"},{"$f":"('PO Attainment'!M35+'PO Attainment'!N35+'PO Attainment'!O35)*'PO Attainment'!$AH$19","v":35.200000000000003},{"$f":"'PO Attainment'!P35*'PO Attainment'!$AI$19","v":10},45.2]
[{"$f":"'PO Attainment'!A36","v":8},{"$f":"'PO Attainment'!B36","v":"1GV19EC010"},{"$f":"'PO Attainment'!C36","v":"DIVYA SWETHA J"},{"$f":"('PO Attainment'!M36+'PO Attainment'!N36+'PO Attainment'!O36)*'PO Attainment'!$AH$19","v":35.200000000000003},{"$f":"'PO Attainment'!P36*'PO Attainment'!$AI$19","v":10},45.2]
[{"$f":"'PO Attainment'!A37","v":9},{"$f":"'PO Attainment'!B37","v":"1GV19EC011"},{"$f":"'PO Attainment'!C37","v":"EVANGELIN P"},{"$f":"('PO Attainment'!M37+'PO Attainment'!N37+'PO Attainment'!O37)*'PO Attainment'!$AH$19","v":20},{"$f":"'PO Attainment'!P37*'PO Attainment'!$AI$19","v":10},30]
[{"$f":"'PO Attainment'!A38","v":10},{"$f":"'PO Attainment'!B38","v":"1GV19EC012"},{"$f":"'PO Attainment'!C38","v":"FARHEEN TAJ"},{"$f":"('PO Attainment'!M38+'PO Attainment'!N38+'PO Attainment'!O38)*'PO Attainment'!$AH$19","v":36},{"$f":"'PO Attainment'!P38*'PO Attainment'!$AI$19","v":10},46]
[{"$f":"'PO Attainment'!A39","v":11},{"$f":"'PO Attainment'!B39","v":"1GV19EC014"},{"$f":"'PO Attainment'!C39","v":"HARISHAKTHI N"},{"$f":"('PO Attainment'!M39+'PO Attainment'!N39+'PO Attainment'!O39)*'PO Attainment'!$AH$19","v":18.400000000000002},{"$f":"'PO Attainment'!P39*'PO Attainment'!$AI$19","v":10},28.400000000000002]
[{"$f":"'PO Attainment'!A40","v":12},{"$f":"'PO Attainment'!B40","v":"1GV19EC015"},{"$f":"'PO Attainment'!C40","v":"JAISHNAVI U"},{"$f":"('PO Attainment'!M40+'PO Attainment'!N40+'PO Attainment'!O40)*'PO Attainment'!$AH$19","v":25.6},{"$f":"'PO Attainment'!P40*'PO Attainment'!$AI$19","v":10},35.6]
[{"$f":"'PO Attainment'!A41","v":13},{"$f":"'PO Attainment'!B41","v":"1GV19EC017"},{"$f":"'PO Attainment'!C41","v":"KANISHA R"},{"$f":"('PO Attainment'!M41+'PO Attainment'!N41+'PO Attainment'!O41)*'PO Attainment'!$AH$19","v":34.4},{"$f":"'PO Attainment'!P41*'PO Attainment'!$AI$19","v":10},44.4]
[{"$f":"'PO Attainment'!A42","v":14},{"$f":"'PO Attainment'!B42","v":"1GV19EC018"},{"$f":"'PO Attainment'!C42","v":"KAVYA RAJ"},{"$f":"('PO Attainment'!M42+'PO Attainment'!N42+'PO Attainment'!O42)*'PO Attainment'!$AH$19","v":27.200000000000003},{"$f":"'PO Attainment'!P42*'PO Attainment'!$AI$19","v":10},37.200000000000003]
[{"$f":"'PO Attainment'!A43","v":15},{"$f":"'PO Attainment'!B43","v":"1GV19EC019"},{"$f":"'PO Attainment'!C43","v":"KEERTHANA B S"},{"$f":"('PO Attainment'!M43+'PO Attainment'!N43+'PO Attainment'!O43)*'PO Attainment'!$AH$19","v":25.6},{"$f":"'PO Attainment'!P43*'PO Attainment'!$AI$19","v":10},35.6]
[{"$f":"'PO Attainment'!A44","v":16},{"$f":"'PO Attainment'!B44","v":"1GV19EC020"},{"$f":"'PO Attainment'!C44","v":"KRITHIKA A"},{"$f":"('PO Attainment'!M44+'PO Attainment'!N44+'PO Attainment'!O44)*'PO Attainment'!$AH$19","v":12.8},{"$f":"'PO Attainment'!P44*'PO Attainment'!$AI$19","v":10},22.8]
[{"$f":"'PO Attainment'!A45","v":17},{"$f":"'PO Attainment'!B45","v":"1GV19EC021"},{"$f":"'PO Attainment'!C45","v":"LEEKATH UNNISSA A"},{"$f":"('PO Attainment'!M45+'PO Attainment'!N45+'PO Attainment'!O45)*'PO Attainment'!$AH$19","v":38.400000000000006},{"$f":"'PO Attainment'!P45*'PO Attainment'!$AI$19","v":10},48.400000000000006]
[{"$f":"'PO Attainment'!A46","v":18},{"$f":"'PO Attainment'!B46","v":"1GV19EC022"},{"$f":"'PO Attainment'!C46","v":"MAHALAKSHMI S"},{"$f":"('PO Attainment'!M46+'PO Attainment'!N46+'PO Attainment'!O46)*'PO Attainment'!$AH$19","v":35.200000000000003},{"$f":"'PO Attainment'!P46*'PO Attainment'!$AI$19","v":10},45.2]
[{"$f":"'PO Attainment'!A47","v":19},{"$f":"'PO Attainment'!B47","v":"1GV19EC023"},{"$f":"'PO Attainment'!C47","v":"MARY VINISHA B"},{"$f":"('PO Attainment'!M47+'PO Attainment'!N47+'PO Attainment'!O47)*'PO Attainment'!$AH$19","v":36},{"$f":"'PO Attainment'!P47*'PO Attainment'!$AI$19","v":10},46]
[{"$f":"'PO Attainment'!A48","v":20},{"$f":"'PO Attainment'!B48","v":"1GV19EC024"},{"$f":"'PO Attainment'!C48","v":"MOHAMMED IRFAN"},{"$f":"('PO Attainment'!M48+'PO Attainment'!N48+'PO Attainment'!O48)*'PO Attainment'!$AH$19","v":27.200000000000003},{"$f":"'PO Attainment'!P48*'PO Attainment'!$AI$19","v":10},37.200000000000003]
[{"$f":"'PO Attainment'!A49","v":21},{"$f":"'PO Attainment'!B49","v":"1GV19EC026"},{"$f":"'PO Attainment'!C49","v":"MOHAN C R"},{"$f":"('PO Attainment'!M49+'PO Attainment'!N49+'PO Attainment'!O49)*'PO Attainment'!$AH$19","v":0},{"$f":"'PO Attainment'!P49*'PO Attainment'!$AI$19","v":10},10]
[{"$f":"'PO Attainment'!A50","v":22},{"$f":"'PO Attainment'!B50","v":"1GV19EC027"},{"$f":"'PO Attainment'!C50","v":"MOUNIKA V"},{"$f":"('PO Attainment'!M50+'PO Attainment'!N50+'PO Attainment'!O50)*'PO Attainment'!$AH$19","v":32},{"$f":"'PO Attainment'!P50*'PO Attainment'!$AI$19","v":10},42]
[{"$f":"'PO Attainment'!A51","v":23},{"$f":"'PO Attainment'!B51","v":"1GV19EC028"},{"$f":"'PO Attainment'!C51","v":"MOUNISHA N N"},{"$f":"('PO Attainment'!M51+'PO Attainment'!N51+'PO Attainment'!O51)*'PO Attainment'!$AH$19","v":32.800000000000004},{"$f":"'PO Attainment'!P51*'PO Attainment'!$AI$19","v":10},42.800000000000004]
[{"$f":"'PO Attainment'!A52","v":24},{"$f":"'PO Attainment'!B52","v":"1GV19EC029"},{"$f":"'PO Attainment'!C52","v":"NOMESHWAR V "},{"$f":"('PO Attainment'!M52+'PO Attainment'!N52+'PO Attainment'!O52)*'PO Attainment'!$AH$19","v":38.400000000000006},{"$f":"'PO Attainment'!P52*'PO Attainment'!$AI$19","v":10},48.400000000000006]
[{"$f":"'PO Attainment'!A53","v":25},{"$f":"'PO Attainment'!B53","v":"1GV19EC030"},{"$f":"'PO Attainment'!C53","v":"POOJA G V"},{"$f":"('PO Attainment'!M53+'PO Attainment'!N53+'PO Attainment'!O53)*'PO Attainment'!$AH$19","v":24.8},{"$f":"'PO Attainment'!P53*'PO Attainment'!$AI$19","v":10},34.799999999999997]
[{"$f":"'PO Attainment'!A54","v":26},{"$f":"'PO Attainment'!B54","v":"1GV19EC033"},{"$f":"'PO Attainment'!C54","v":"RISHIKA R"},{"$f":"('PO Attainment'!M54+'PO Attainment'!N54+'PO Attainment'!O54)*'PO Attainment'!$AH$19","v":15.200000000000001},{"$f":"'PO Attainment'!P54*'PO Attainment'!$AI$19","v":10},25.200000000000003]
[{"$f":"'PO Attainment'!A55","v":27},{"$f":"'PO Attainment'!B55","v":"1GV19EC034"},{"$f":"'PO Attainment'!C55","v":"SAFNA FIRDOUS E K"},{"$f":"('PO Attainment'!M55+'PO Attainment'!N55+'PO Attainment'!O55)*'PO Attainment'!$AH$19","v":25.6},{"$f":"'PO Attainment'!P55*'PO Attainment'!$AI$19","v":10},35.6]
[{"$f":"'PO Attainment'!A56","v":28},{"$f":"'PO Attainment'!B56","v":"1GV19EC035"},{"$f":"'PO Attainment'!C56","v":"SAHANA K"},{"$f":"('PO Attainment'!M56+'PO Attainment'!N56+'PO Attainment'!O56)*'PO Attainment'!$AH$19","v":0},{"$f":"'PO Attainment'!P56*'PO Attainment'!$AI$19","v":10},10]
[{"$f":"'PO Attainment'!A57","v":29},{"$f":"'PO Attainment'!B57","v":"1GV19EC036"},{"$f":"'PO Attainment'!C57","v":"SAIMANIMALA S"},{"$f":"('PO Attainment'!M57+'PO Attainment'!N57+'PO Attainment'!O57)*'PO Attainment'!$AH$19","v":34.4},{"$f":"'PO Attainment'!P57*'PO Attainment'!$AI$19","v":10},44.4]
[{"$f":"'PO Attainment'!A58","v":30},{"$f":"'PO Attainment'!B58","v":"1GV19EC037"},{"$f":"'PO Attainment'!C58","v":"SAKTHI RAGAVAN"},{"$f":"('PO Attainment'!M58+'PO Attainment'!N58+'PO Attainment'!O58)*'PO Attainment'!$AH$19","v":32},{"$f":"'PO Attainment'!P58*'PO Attainment'!$AI$19","v":10},42]
[{"$f":"'PO Attainment'!A59","v":31},{"$f":"'PO Attainment'!B59","v":"1GV19EC039"},{"$f":"'PO Attainment'!C59","v":"SHARMILA A"},{"$f":"('PO Attainment'!M59+'PO Attainment'!N59+'PO Attainment'!O59)*'PO Attainment'!$AH$19","v":33.6},{"$f":"'PO Attainment'!P59*'PO Attainment'!$AI$19","v":10},43.6]
[{"$f":"'PO Attainment'!A60","v":32},{"$f":"'PO Attainment'!B60","v":"1GV19EC040"},{"$f":"'PO Attainment'!C60","v":"SHYAM KUMAR P"},{"$f":"('PO Attainment'!M60+'PO Attainment'!N60+'PO Attainment'!O60)*'PO Attainment'!$AH$19","v":16.8},{"$f":"'PO Attainment'!P60*'PO Attainment'!$AI$19","v":10},26.8]
[{"$f":"'PO Attainment'!A61","v":33},{"$f":"'PO Attainment'!B61","v":"1GV19EC041"},{"$f":"'PO Attainment'!C61","v":"SNEHA N"},{"$f":"('PO Attainment'!M61+'PO Attainment'!N61+'PO Attainment'!O61)*'PO Attainment'!$AH$19","v":8},{"$f":"'PO Attainment'!P61*'PO Attainment'!$AI$19","v":10},18]
[{"$f":"'PO Attainment'!A62","v":34},{"$f":"'PO Attainment'!B62","v":"1GV19EC042"},{"$f":"'PO Attainment'!C62","v":"SNEHA S"},{"$f":"('PO Attainment'!M62+'PO Attainment'!N62+'PO Attainment'!O62)*'PO Attainment'!$AH$19","v":12},{"$f":"'PO Attainment'!P62*'PO Attainment'!$AI$19","v":10},22]
[{"$f":"'PO Attainment'!A63","v":35},{"$f":"'PO Attainment'!B63","v":"1GV19EC043"},{"$f":"'PO Attainment'!C63","v":"SOUJANYA D"},{"$f":"('PO Attainment'!M63+'PO Attainment'!N63+'PO Attainment'!O63)*'PO Attainment'!$AH$19","v":34.4},{"$f":"'PO Attainment'!P63*'PO Attainment'!$AI$19","v":10},44.4]
[{"$f":"'PO Attainment'!A64","v":36},{"$f":"'PO Attainment'!B64","v":"1GV19EC044"},{"$f":"'PO Attainment'!C64","v":"SOWMIYA J"},{"$f":"('PO Attainment'!M64+'PO Attainment'!N64+'PO Attainment'!O64)*'PO Attainment'!$AH$19","v":37.6},{"$f":"'PO Attainment'!P64*'PO Attainment'!$AI$19","v":10},47.6]
[{"$f":"'PO Attainment'!A65","v":37},{"$f":"'PO Attainment'!B65","v":"1GV19EC045"},{"$f":"'PO Attainment'!C65","v":"SUJITHA S"},{"$f":"('PO Attainment'!M65+'PO Attainment'!N65+'PO Attainment'!O65)*'PO Attainment'!$AH$19","v":35.200000000000003},{"$f":"'PO Attainment'!P65*'PO Attainment'!$AI$19","v":10},45.2]
[{"$f":"'PO Attainment'!A66","v":38},{"$f":"'PO Attainment'!B66","v":"1GV19EC046"},{"$f":"'PO Attainment'!C66","v":"SUMITH R"},{"$f":"('PO Attainment'!M66+'PO Attainment'!N66+'PO Attainment'!O66)*'PO Attainment'!$AH$19","v":18.400000000000002},{"$f":"'PO Attainment'!P66*'PO Attainment'!$AI$19","v":10},28.400000000000002]
[{"$f":"'PO Attainment'!A67","v":39},{"$f":"'PO Attainment'!B67","v":"1GV19EC047"},{"$f":"'PO Attainment'!C67","v":"SURYA H G"},{"$f":"('PO Attainment'!M67+'PO Attainment'!N67+'PO Attainment'!O67)*'PO Attainment'!$AH$19","v":12},{"$f":"'PO Attainment'!P67*'PO Attainment'!$AI$19","v":10},22]
[{"$f":"'PO Attainment'!A68","v":40},{"$f":"'PO Attainment'!B68","v":"1GV19EC048"},{"$f":"'PO Attainment'!C68","v":"SWETHA T"},{"$f":"('PO Attainment'!M68+'PO Attainment'!N68+'PO Attainment'!O68)*'PO Attainment'!$AH$19","v":16},{"$f":"'PO Attainment'!P68*'PO Attainment'!$AI$19","v":10},26]
[{"$f":"'PO Attainment'!A69","v":41},{"$f":"'PO Attainment'!B69","v":"1GV19EC049"},{"$f":"'PO Attainment'!C69","v":"SYED ASHWAQ AHMED M"},{"$f":"('PO Attainment'!M69+'PO Attainment'!N69+'PO Attainment'!O69)*'PO Attainment'!$AH$19","v":26.400000000000002},{"$f":"'PO Attainment'!P69*'PO Attainment'!$AI$19","v":10},36.400000000000006]
[{"$f":"'PO Attainment'!A70","v":42},{"$f":"'PO Attainment'!B70","v":"1GV19EC050"},{"$f":"'PO Attainment'!C70","v":"TRIBHUVAN S R"},{"$f":"('PO Attainment'!M70+'PO Attainment'!N70+'PO Attainment'!O70)*'PO Attainment'!$AH$19","v":17.600000000000001},{"$f":"'PO Attainment'!P70*'PO Attainment'!$AI$19","v":10},27.6]
[{"$f":"'PO Attainment'!A71","v":43},{"$f":"'PO Attainment'!B71","v":"1GV19EC051"},{"$f":"'PO Attainment'!C71","v":"VANDANA K"},{"$f":"('PO Attainment'!M71+'PO Attainment'!N71+'PO Attainment'!O71)*'PO Attainment'!$AH$19","v":16.8},{"$f":"'PO Attainment'!P71*'PO Attainment'!$AI$19","v":10},26.8]
[{"$f":"'PO Attainment'!A72","v":44},{"$f":"'PO Attainment'!B72","v":"1GV19EC052"},{"$f":"'PO Attainment'!C72","v":"VARADARAJU D"},{"$f":"('PO Attainment'!M72+'PO Attainment'!N72+'PO Attainment'!O72)*'PO Attainment'!$AH$19","v":22.400000000000002},{"$f":"'PO Attainment'!P72*'PO Attainment'!$AI$19","v":10},32.400000000000006]
[{"$f":"'PO Attainment'!A73","v":45},{"$f":"'PO Attainment'!B73","v":"1GV19EC053"},{"$f":"'PO Attainment'!C73","v":"VIDHYA G N"},{"$f":"('PO Attainment'!M73+'PO Attainment'!N73+'PO Attainment'!O73)*'PO Attainment'!$AH$19","v":29.6},{"$f":"'PO Attainment'!P73*'PO Attainment'!$AI$19","v":10},39.6]
[{"$f":"'PO Attainment'!A74","v":46},{"$f":"'PO Attainment'!B74","v":"1GV19EC054"},{"$f":"'PO Attainment'!C74","v":"VIDYA M"},{"$f":"('PO Attainment'!M74+'PO Attainment'!N74+'PO Attainment'!O74)*'PO Attainment'!$AH$19","v":8},{"$f":"'PO Attainment'!P74*'PO Attainment'!$AI$19","v":10},18]
[{"$f":"'PO Attainment'!A75","v":47},{"$f":"'PO Attainment'!B75","v":"1GV19EC057"},{"$f":"'PO Attainment'!C75","v":"GRITA A"},{"$f":"('PO Attainment'!M75+'PO Attainment'!N75+'PO Attainment'!O75)*'PO Attainment'!$AH$19","v":39.200000000000003},{"$f":"'PO Attainment'!P75*'PO Attainment'!$AI$19","v":10},49.2]
[{"$f":"'PO Attainment'!A76","v":48},{"$f":"'PO Attainment'!B76","v":"1GV19EC058"},{"$f":"'PO Attainment'!C76","v":"TABREZ AHMED N"},{"$f":"('PO Attainment'!M76+'PO Attainment'!N76+'PO Attainment'!O76)*'PO Attainment'!$AH$19","v":25.6},{"$f":"'PO Attainment'!P76*'PO Attainment'!$AI$19","v":10},35.6]
[{"$f":"'PO Attainment'!A77","v":49},{"$f":"'PO Attainment'!B77","v":"1GV18EC012"},{"$f":"'PO Attainment'!C77","v":"KENNETH BENNY J"},{"$f":"('PO Attainment'!M77+'PO Attainment'!N77+'PO Attainment'!O77)*'PO Attainment'!$AH$19","v":11.200000000000001},{"$f":"'PO Attainment'!P77*'PO Attainment'!$AI$19","v":10},21.200000000000003]
[{"$f":"'PO Attainment'!A78","v":50},{"$f":"'PO Attainment'!B78","v":"1GV18EC013"},{"$f":"'PO Attainment'!C78","v":"KEZIA R"},{"$f":"('PO Attainment'!M78+'PO Attainment'!N78+'PO Attainment'!O78)*'PO Attainment'!$AH$19","v":15.200000000000001},{"$f":"'PO Attainment'!P78*'PO Attainment'!$AI$19","v":10},25.200000000000003]
[{"$f":"'PO Attainment'!A79","v":51},{"$f":"'PO Attainment'!B79","v":"1GV18EC022"},{"$f":"'PO Attainment'!C79","v":"PAVITHRA. P   "},{"$f":"('PO Attainment'!M79+'PO Attainment'!N79+'PO Attainment'!O79)*'PO Attainment'!$AH$19","v":33.6},{"$f":"'PO Attainment'!P79*'PO Attainment'!$AI$19","v":10},43.6]
[{"$f":"'PO Attainment'!A80","v":52},{"$f":"'PO Attainment'!B80","v":"1GV18EC033"},{"$f":"'PO Attainment'!C80","v":"SHREEJA R"},{"$f":"('PO Attainment'!M80+'PO Attainment'!N80+'PO Attainment'!O80)*'PO Attainment'!$AH$19","v":12.8},{"$f":"'PO Attainment'!P80*'PO Attainment'!$AI$19","v":10},22.8]
[{"$f":"'PO Attainment'!A81","v":53},{"$f":"'PO Attainment'!B81","v":"1GV18EC035"},{"$f":"'PO Attainment'!C81","v":"SIDDHITHA S"},{"$f":"('PO Attainment'!M81+'PO Attainment'!N81+'PO Attainment'!O81)*'PO Attainment'!$AH$19","v":7.2},{"$f":"'PO Attainment'!P81*'PO Attainment'!$AI$19","v":10},17.2]
[{"$f":"'PO Attainment'!A82","v":54},{"$f":"'PO Attainment'!B82","v":"1GV17EC047"},{"$f":"'PO Attainment'!C82","v":"TEJESASHWSI ONGOLE Y"},{"$f":"('PO Attainment'!M82+'PO Attainment'!N82+'PO Attainment'!O82)*'PO Attainment'!$AH$19","v":0},{"$f":"'PO Attainment'!P82*'PO Attainment'!$AI$19","v":10},10]
[{"$f":"'PO Attainment'!A83","v":55},{"$f":"'PO Attainment'!B83","v":"1GV16EC038"},{"$f":"'PO Attainment'!C83","v":"RACHANA K R"},{"$f":"('PO Attainment'!M83+'PO Attainment'!N83+'PO Attainment'!O83)*'PO Attainment'!$AH$19","v":0},{"$f":"'PO Attainment'!P83*'PO Attainment'!$AI$19","v":10},10]
[{"$f":"'PO Attainment'!A84","v":56},{"$f":"'PO Attainment'!B84","v":"1GV20EC400"},{"$f":"'PO Attainment'!C84","v":"ARUN KUMAR N"},{"$f":"('PO Attainment'!M84+'PO Attainment'!N84+'PO Attainment'!O84)*'PO Attainment'!$AH$19","v":0},{"$f":"'PO Attainment'!P84*'PO Attainment'!$AI$19","v":10},10]
[{"$f":"'PO Attainment'!A85","v":57},{"$f":"'PO Attainment'!B85","v":"1GV20EC401"},{"$f":"'PO Attainment'!C85","v":"BHUVANESH KUMAR U"},{"$f":"('PO Attainment'!M85+'PO Attainment'!N85+'PO Attainment'!O85)*'PO Attainment'!$AH$19","v":0},{"$f":"'PO Attainment'!P85*'PO Attainment'!$AI$19","v":10},10]
[{"$f":"'PO Attainment'!A86","v":58},{"$f":"'PO Attainment'!B86","v":"1GV20EC402"},{"$f":"'PO Attainment'!C86","v":"CHANDRALEKHA M"},{"$f":"('PO Attainment'!M86+'PO Attainment'!N86+'PO Attainment'!O86)*'PO Attainment'!$AH$19","v":23.200000000000003},{"$f":"'PO Attainment'!P86*'PO Attainment'!$AI$19","v":10},33.200000000000003]
[{"$f":"'PO Attainment'!A87","v":59},{"$f":"'PO Attainment'!B87","v":"1GV20EC404"},{"$f":"'PO Attainment'!C87","v":"VEDASHREE GM"},{"$f":"('PO Attainment'!M87+'PO Attainment'!N87+'PO Attainment'!O87)*'PO Attainment'!$AH$19","v":18.400000000000002},{"$f":"'PO Attainment'!P87*'PO Attainment'!$AI$19","v":10},28.400000000000002]
[{"$f":"'PO Attainment'!A88","v":60},{"$f":"'PO Attainment'!B88","v":"1GV20EC405"},{"$f":"'PO Attainment'!C88","v":"VIJAYKUMAR R"},{"$f":"('PO Attainment'!M88+'PO Attainment'!N88+'PO Attainment'!O88)*'PO Attainment'!$AH$19","v":16.8},{"$f":"'PO Attainment'!P88*'PO Attainment'!$AI$19","v":10},26.8]
[]
["Course Instructor"]

{"sheet":"T3A ","index":9,"n_rows":56,"n_cols":4,"rows_kept":56,"cut":false,"hidden":false,"merged":[[18,2,18,3],[3,0,3,2],[4,0,4,3],[5,0,5,3],[6,0,6,3],[7,0,7,1],[11,0,12,0],[11,1,12,1],[11,2,12,3],[13,2,13,3],[14,2,14,3],[15,2,15,3],[16,2,16,3],[17,2,17,3],[19,0,19,1],[19,2,19,3],[20,0,20,1],[20,2,20,3],[23,1,24,1],[23,2,24,2],[23,3,24,3],[55,0,56,0],[55,1,56,1],[55,2,56,2],[55,3,56,3],[25,1,26,1],[25,2,26,2],[25,3,26,3],[45,0,45,3],[46,0,46,3],[47,0,47,3],[48,0,48,1],[53,0,54,0],[53,1,54,1],[53,2,54,2],[53,3,54,3]]}
[]
[]
[]
["F.No:DrTTIT/IQAC/2020-21/066AP"]
[{"$f":"\"Department of \" &'PO Attainment'!C6 &\" Engineering\"","v":"Department of Electronics & Communication Engineering"}]
["Internal Examination Result Analysis"]
["Third Internal Test"]
[null,null,"Date:"]
["Semester:",{"$f":"'PO Attainment'!C5","v":"IV"},"Academic Year:",{"$f":"'PO Attainment'!C8","v":"2020-21"}]
["Course:",{"$f":"'PO Attainment'!C7","v":"SIGNALS AND SYSTEMS"},"Course Code:",{"$f":"'PO Attainment'!S7","v":"18EC45"}]
[]
["Sl.No"]
[]
[1,"Total No. of Students:",{"$f":"'PO Attainment'!S8","v":60}]
[2,"No. of Students Absent:"]
[3,"No. of Students Appeared:",{"$f":"'PO Attainment'!S8-C15","v":60}]
[4,"No. of Students Passed:",{"$f":"'T3'!J3","v":53}]
[5,"No. of Students Failed:",{"$f":"C14-C17","v":7}]
[6,"Percentage of Pass"]
["Based on Total Students: :",null,{"$f":"(C17/C14)*100","v":88.333333333333329}]
["     Based on Students Appeared:",null,{"$f":"(C17/C16)*100","v":88.333333333333329}]
[]
[null,"Result Analysis"]
[null,"Description","Below 40%","Above 75%"]
[]
[null,"No. of Students",{"$f":"C18","v":7},{"$f":"'T3'!K3","v":31}]
[]
[]
[]
["           Course Instructor                                                                           HOD"]
[]
[]
[]
[]
[]
[]
[]
[]
[]
[]
[]
[]
[]
[]
[]
[{"$f":"\"Department of \" &'PO Attainment'!C6 &\" Engineering\"","v":"Department of Electronics & Communication Engineering"}]
["Internal Examination Result Analysis"]
["Third Internal Test"]
[null,null,"Date:"]
["Semester:",{"$f":"B9","v":"IV"},"Academic Year:",{"$f":"D9","v":"2020-21"}]
["Course: ",{"$f":"B10","v":"SIGNALS AND SYSTEMS"},"Course Code:",{"$f":"D10","v":"18EC45"}]
[]
[]
["No. of Students","No.of students failed","No.of students passed","No.of students scored above 75%"]
[]
[{"$f":"C14","v":60},{"$f":"C18","v":7},{"$f":"C17","v":53},{"$f":"D26","v":31}]

{"sheet":"CAR3","index":10,"n_rows":22,"n_cols":8,"rows_kept":22,"cut":false,"hidden":false,"merged":[[17,1,17,2],[17,4,17,6],[13,0,13,1],[13,2,13,3],[13,5,13,6],[15,1,15,2],[15,4,15,6],[16,1,16,2],[16,4,16,6],[3,0,6,7],[7,0,8,7],[9,0,9,7],[10,0,11,7],[12,0,12,1],[12,5,12,6],[12,2,12,3]]}
[]
[]
[]
["F.No: DrTTIT/IQAC/2020-21/066BP"]
[]
[]
[]
[{"$f":"\"Department of \" &'PO Attainment'!C6 &\" Engineering\"","v":"Department of Electronics & Communication Engineering"}]
[]
["Third  Internal Test"]
["Corrective Action Report"]
[]
["Semester:",null,{"$f":"'PO Attainment'!C5","v":"IV"},null,null,"Academic Year:",null,{"$f":"'PO Attainment'!C8","v":"2020-21"}]
["Course:",null,{"$f":"'PO Attainment'!C7","v":"SIGNALS AND SYSTEMS"},null,null,"Course Code:",null,{"$f":"'PO Attainment'!S7","v":"18EC45"}]
[null,"      "]
["Sl.No.","Range of unit test marks %",null,"No of Students","Actions taken to improve the performance",null,null,"Remarks"]
[1,"Below  40%",null,{"$f":"'T3A '!C26","v":7}]
[2,">75%",null,{"$f":"'T3A '!D26","v":31}]
[]
[]
[]
["Course Instructor",null,null,"                                                                     HOD"]

{"sheet":"FA","index":11,"n_rows":73,"n_cols":9,"rows_kept":73,"cut":false,"hidden":false,"merged":[[72,0,72,2],[3,0,3,4],[6,0,6,6],[4,0,4,6],[5,0,5,6]]}
[]
[]
[null,null,null,null,null,null,null,null,{"$f":"'PO Attainment'!S8","v":60}]
["F.No-DrTTIT/IQAC/2020-21/IA/02P"]
[{"$f":"\"Department of \" &'PO Attainment'!C6 &\" Engineering\"","v":"Department of Electronics & Communication Engineering"}]
["Academic Year 2020-21"]
["Average IA Marks"]
["Sem :"]
["Sl.No","USN","Name of the Student ","IA1 marks","IA2 marks","IA3 marks","Average Internal Marks"]
[{"$f":"'PO Attainment'!A29","v":1},{"$f":"'PO Attainment'!B29","v":"1GV19EC002"},{"$f":"'PO Attainment'!C29","v":"AKSHAYA K A"},{"$f":"'T1'!F10","v":44.4},{"$f":"'T2'!F10","v":43.6},{"$f":"'T3'!F10","v":37.200000000000003},{"$f":"(D10+E10+F10)/3","v":41.733333333333334}]
[{"$f":"'PO Attainment'!A30","v":2},{"$f":"'PO Attainment'!B30","v":"1GV19EC003"},{"$f":"'PO Attainment'!C30","v":"AVINASH BABU B"},{"$f":"'T1'!F11","v":38.799999999999997},{"$f":"'T2'!F11","v":38},{"$f":"'T3'!F11","v":16.399999999999999},{"$f":"(D11+E11+F11)/3","v":31.066666666666663}]
[{"$f":"'PO Attainment'!A31","v":3},{"$f":"'PO Attainment'!B31","v":"1GV19EC005"},{"$f":"'PO Attainment'!C31","v":"BHARATH KUMAR R"},{"$f":"'T1'!F12","v":34},{"$f":"'T2'!F12","v":32.400000000000006},{"$f":"'T3'!F12","v":14.8},27.066666666666666]
[{"$f":"'PO Attainment'!A32","v":4},{"$f":"'PO Attainment'!B32","v":"1GV19EC006"},{"$f":"'PO Attainment'!C32","v":"BHARGAVI S"},{"$f":"'T1'!F13","v":45.2},{"$f":"'T2'!F13","v":45.2},{"$f":"'T3'!F13","v":46},45.466666666666669]
[{"$f":"'PO Attainment'!A33","v":5},{"$f":"'PO Attainment'!B33","v":"1GV19EC007"},{"$f":"'PO Attainment'!C33","v":"CHAITHANYA K K V"},{"$f":"'T1'!F14","v":38.799999999999997},{"$f":"'T2'!F14","v":43.6},{"$f":"'T3'!F14","v":19.600000000000001},34]
[{"$f":"'PO Attainment'!A34","v":6},{"$f":"'PO Attainment'!B34","v":"1GV19EC008"},{"$f":"'PO Attainment'!C34","v":"DEEPAK R"},{"$f":"'T1'!F15","v":29.200000000000003},{"$f":"'T2'!F15","v":38},{"$f":"'T3'!F15","v":30},32.4]
[{"$f":"'PO Attainment'!A35","v":7},{"$f":"'PO Attainment'!B35","v":"1GV19EC009"},{"$f":"'PO Attainment'!C35","v":"DIVYA PRIYA G R"},{"$f":"'T1'!F16","v":42},{"$f":"'T2'!F16","v":47.6},{"$f":"'T3'!F16","v":45.2},{"$f":"(D16+E16+F16)/3","v":44.933333333333337}]
[{"$f":"'PO Attainment'!A36","v":8},{"$f":"'PO Attainment'!B36","v":"1GV19EC010"},{"$f":"'PO Attainment'!C36","v":"DIVYA SWETHA J"},{"$f":"'T1'!F17","v":46},{"$f":"'T2'!F17","v":47.6},{"$f":"'T3'!F17","v":45.2},46.266666666666673]
[{"$f":"'PO Attainment'!A37","v":9},{"$f":"'PO Attainment'!B37","v":"1GV19EC011"},{"$f":"'PO Attainment'!C37","v":"EVANGELIN P"},{"$f":"'T1'!F18","v":33.200000000000003},{"$f":"'T2'!F18","v":38},{"$f":"'T3'!F18","v":30},33.733333333333334]
[{"$f":"'PO Attainment'!A38","v":10},{"$f":"'PO Attainment'!B38","v":"1GV19EC012"},{"$f":"'PO Attainment'!C38","v":"FARHEEN TAJ"},{"$f":"'T1'!F19","v":42},{"$f":"'T2'!F19","v":43.6},{"$f":"'T3'!F19","v":46},43.866666666666667]
[{"$f":"'PO Attainment'!A39","v":11},{"$f":"'PO Attainment'!B39","v":"1GV19EC014"},{"$f":"'PO Attainment'!C39","v":"HARISHAKTHI N"},{"$f":"'T1'!F20","v":38.799999999999997},{"$f":"'T2'!F20","v":38},{"$f":"'T3'!F20","v":28.400000000000002},35.06666666666667]
[{"$f":"'PO Attainment'!A40","v":12},{"$f":"'PO Attainment'!B40","v":"1GV19EC015"},{"$f":"'PO Attainment'!C40","v":"JAISHNAVI U"},{"$f":"'T1'!F21","v":37.200000000000003},{"$f":"'T2'!F21","v":38},{"$f":"'T3'!F21","v":35.6},36.933333333333337]
[{"$f":"'PO Attainment'!A41","v":13},{"$f":"'PO Attainment'!B41","v":"1GV19EC017"},{"$f":"'PO Attainment'!C41","v":"KANISHA R"},{"$f":"'T1'!F22","v":38.799999999999997},{"$f":"'T2'!F22","v":42},{"$f":"'T3'!F22","v":44.4},41.733333333333327]
[{"$f":"'PO Attainment'!A42","v":14},{"$f":"'PO Attainment'!B42","v":"1GV19EC018"},{"$f":"'PO Attainment'!C42","v":"KAVYA RAJ"},{"$f":"'T1'!F23","v":38.799999999999997},{"$f":"'T2'!F23","v":42},{"$f":"'T3'!F23","v":37.200000000000003},39.333333333333336]
[{"$f":"'PO Attainment'!A43","v":15},{"$f":"'PO Attainment'!B43","v":"1GV19EC019"},{"$f":"'PO Attainment'!C43","v":"KEERTHANA B S"},{"$f":"'T1'!F24","v":35.6},{"$f":"'T2'!F24","v":42},{"$f":"'T3'!F24","v":35.6},37.733333333333327]
[{"$f":"'PO Attainment'!A44","v":16},{"$f":"'PO Attainment'!B44","v":"1GV19EC020"},{"$f":"'PO Attainment'!C44","v":"KRITHIKA A"},{"$f":"'T1'!F25","v":32.400000000000006},{"$f":"'T2'!F25","v":34},{"$f":"'T3'!F25","v":22.8},29.733333333333334]
[{"$f":"'PO Attainment'!A45","v":17},{"$f":"'PO Attainment'!B45","v":"1GV19EC021"},{"$f":"'PO Attainment'!C45","v":"LEEKATH UNNISSA A"},{"$f":"'T1'!F26","v":42},{"$f":"'T2'!F26","v":45.2},{"$f":"'T3'!F26","v":48.400000000000006},45.20000000000001]
[{"$f":"'PO Attainment'!A46","v":18},{"$f":"'PO Attainment'!B46","v":"1GV19EC022"},{"$f":"'PO Attainment'!C46","v":"MAHALAKSHMI S"},{"$f":"'T1'!F27","v":38.799999999999997},{"$f":"'T2'!F27","v":47.6},{"$f":"'T3'!F27","v":45.2},43.866666666666674]
[{"$f":"'PO Attainment'!A47","v":19},{"$f":"'PO Attainment'!B47","v":"1GV19EC023"},{"$f":"'PO Attainment'!C47","v":"MARY VINISHA B"},{"$f":"'T1'!F28","v":39.6},{"$f":"'T2'!F28","v":43.6},{"$f":"'T3'!F28","v":46},43.066666666666663]
[{"$f":"'PO Attainment'!A48","v":20},{"$f":"'PO Attainment'!B48","v":"1GV19EC024"},{"$f":"'PO Attainment'!C48","v":"MOHAMMED IRFAN"},{"$f":"'T1'!F29","v":43.6},{"$f":"'T2'!F29","v":43.6},{"$f":"'T3'!F29","v":37.200000000000003},41.466666666666669]
[{"$f":"'PO Attainment'!A49","v":21},{"$f":"'PO Attainment'!B49","v":"1GV19EC026"},{"$f":"'PO Attainment'!C49","v":"MOHAN C R"},{"$f":"'T1'!F30","v":41.2},{"$f":"'T2'!F30","v":42},{"$f":"'T3'!F30","v":10},31.066666666666666]
[{"$f":"'PO Attainment'!A50","v":22},{"$f":"'PO Attainment'!B50","v":"1GV19EC027"},{"$f":"'PO Attainment'!C50","v":"MOUNIKA V"},{"$f":"'T1'!F31","v":31.6},{"$f":"'T2'!F31","v":43.6},{"$f":"'T3'!F31","v":42},39.06666666666667]
[{"$f":"'PO Attainment'!A51","v":23},{"$f":"'PO Attainment'!B51","v":"1GV19EC028"},{"$f":"'PO Attainment'!C51","v":"MOUNISHA N N"},{"$f":"'T1'!F32","v":41.2},{"$f":"'T2'!F32","v":43.6},{"$f":"'T3'!F32","v":42.800000000000004},42.533333333333339]
[{"$f":"'PO Attainment'!A52","v":24},{"$f":"'PO Attainment'!B52","v":"1GV19EC029"},{"$f":"'PO Attainment'!C52","v":"NOMESHWAR V "},{"$f":"'T1'!F33","v":38.799999999999997},{"$f":"'T2'!F33","v":42},{"$f":"'T3'!F33","v":48.400000000000006},43.066666666666663]
[{"$f":"'PO Attainment'!A53","v":25},{"$f":"'PO Attainment'!B53","v":"1GV19EC030"},{"$f":"'PO Attainment'!C53","v":"POOJA G V"},{"$f":"'T1'!F34","v":34},{"$f":"'T2'!F34","v":42},{"$f":"'T3'!F34","v":34.799999999999997},36.93333333333333]
[{"$f":"'PO Attainment'!A54","v":26},{"$f":"'PO Attainment'!B54","v":"1GV19EC033"},{"$f":"'PO Attainment'!C54","v":"RISHIKA R"},{"$f":"'T1'!F35","v":10},{"$f":"'T2'!F35","v":10},{"$f":"'T3'!F35","v":25.200000000000003},15.066666666666668]
[{"$f":"'PO Attainment'!A55","v":27},{"$f":"'PO Attainment'!B55","v":"1GV19EC034"},{"$f":"'PO Attainment'!C55","v":"SAFNA FIRDOUS E K"},{"$f":"'T1'!F36","v":34},{"$f":"'T2'!F36","v":43.6},{"$f":"'T3'!F36","v":35.6},37.733333333333327]
[{"$f":"'PO Attainment'!A56","v":28},{"$f":"'PO Attainment'!B56","v":"1GV19EC035"},{"$f":"'PO Attainment'!C56","v":"SAHANA K"},{"$f":"'T1'!F37","v":30.8},{"$f":"'T2'!F37","v":45.2},{"$f":"'T3'!F37","v":10},28.666666666666668]
[{"$f":"'PO Attainment'!A57","v":29},{"$f":"'PO Attainment'!B57","v":"1GV19EC036"},{"$f":"'PO Attainment'!C57","v":"SAIMANIMALA S"},{"$f":"'T1'!F38","v":34},{"$f":"'T2'!F38","v":45.2},{"$f":"'T3'!F38","v":44.4},41.199999999999996]
[{"$f":"'PO Attainment'!A58","v":30},{"$f":"'PO Attainment'!B58","v":"1GV19EC037"},{"$f":"'PO Attainment'!C58","v":"SAKTHI RAGAVAN"},{"$f":"'T1'!F39","v":39.6},{"$f":"'T2'!F39","v":45.2},{"$f":"'T3'!F39","v":42},{"$f":"(D39+E39+F39)/3","v":42.266666666666673}]
[{"$f":"'PO Attainment'!A59","v":31},{"$f":"'PO Attainment'!B59","v":"1GV19EC039"},{"$f":"'PO Attainment'!C59","v":"SHARMILA A"},{"$f":"'T1'!F40","v":38},{"$f":"'T2'!F40","v":42},{"$f":"'T3'!F40","v":43.6},41.199999999999996]
[{"$f":"'PO Attainment'!A60","v":32},{"$f":"'PO Attainment'!B60","v":"1GV19EC040"},{"$f":"'PO Attainment'!C60","v":"SHYAM KUMAR P"},{"$f":"'T1'!F41","v":27.6},{"$f":"'T2'!F41","v":34},{"$f":"'T3'!F41","v":26.8},29.466666666666669]
[{"$f":"'PO Attainment'!A61","v":33},{"$f":"'PO Attainment'!B61","v":"1GV19EC041"},{"$f":"'PO Attainment'!C61","v":"SNEHA N"},{"$f":"'T1'!F42","v":39.6},{"$f":"'T2'!F42","v":42},{"$f":"'T3'!F42","v":18},33.199999999999996]
[{"$f":"'PO Attainment'!A62","v":34},{"$f":"'PO Attainment'!B62","v":"1GV19EC042"},{"$f":"'PO Attainment'!C62","v":"SNEHA S"},{"$f":"'T1'!F43","v":32.400000000000006},{"$f":"'T2'!F43","v":43.6},{"$f":"'T3'!F43","v":22},32.666666666666664]
[{"$f":"'PO Attainment'!A63","v":35},{"$f":"'PO Attainment'!B63","v":"1GV19EC043"},{"$f":"'PO Attainment'!C63","v":"SOUJANYA D"},{"$f":"'T1'!F44","v":36.400000000000006},{"$f":"'T2'!F44","v":46.800000000000004},{"$f":"'T3'!F44","v":44.4},42.533333333333339]
[{"$f":"'PO Attainment'!A64","v":36},{"$f":"'PO Attainment'!B64","v":"1GV19EC044"},{"$f":"'PO Attainment'!C64","v":"SOWMIYA J"},{"$f":"'T1'!F45","v":38.799999999999997},{"$f":"'T2'!F45","v":46.800000000000004},{"$f":"'T3'!F45","v":47.6},44.4]
[{"$f":"'PO Attainment'!A65","v":37},{"$f":"'PO Attainment'!B65","v":"1GV19EC045"},{"$f":"'PO Attainment'!C65","v":"SUJITHA S"},{"$f":"'T1'!F46","v":43.6},{"$f":"'T2'!F46","v":47.6},{"$f":"'T3'!F46","v":45.2},45.466666666666669]
[{"$f":"'PO Attainment'!A66","v":38},{"$f":"'PO Attainment'!B66","v":"1GV19EC046"},{"$f":"'PO Attainment'!C66","v":"SUMITH R"},{"$f":"'T1'!F47","v":35.6},{"$f":"'T2'!F47","v":43.6},{"$f":"'T3'!F47","v":28.400000000000002},35.866666666666667]
[{"$f":"'PO Attainment'!A67","v":39},{"$f":"'PO Attainment'!B67","v":"1GV19EC047"},{"$f":"'PO Attainment'!C67","v":"SURYA H G"},{"$f":"'T1'!F48","v":26.8},{"$f":"'T2'!F48","v":28.400000000000002},{"$f":"'T3'!F48","v":22},25.733333333333334]
[{"$f":"'PO Attainment'!A68","v":40},{"$f":"'PO Attainment'!B68","v":"1GV19EC048"},{"$f":"'PO Attainment'!C68","v":"SWETHA T"},{"$f":"'T1'!F49","v":38.799999999999997},{"$f":"'T2'!F49","v":42},{"$f":"'T3'!F49","v":26},35.6]
[{"$f":"'PO Attainment'!A69","v":41},{"$f":"'PO Attainment'!B69","v":"1GV19EC049"},{"$f":"'PO Attainment'!C69","v":"SYED ASHWAQ AHMED M"},{"$f":"'T1'!F50","v":39.6},{"$f":"'T2'!F50","v":42},{"$f":"'T3'!F50","v":36.400000000000006},39.333333333333336]
[{"$f":"'PO Attainment'!A70","v":42},{"$f":"'PO Attainment'!B70","v":"1GV19EC050"},{"$f":"'PO Attainment'!C70","v":"TRIBHUVAN S R"},{"$f":"'T1'!F51","v":28.400000000000002},{"$f":"'T2'!F51","v":42},{"$f":"'T3'!F51","v":27.6},32.666666666666664]
[{"$f":"'PO Attainment'!A71","v":43},{"$f":"'PO Attainment'!B71","v":"1GV19EC051"},{"$f":"'PO Attainment'!C71","v":"VANDANA K"},{"$f":"'T1'!F52","v":38},{"$f":"'T2'!F52","v":43.6},{"$f":"'T3'!F52","v":26.8},36.133333333333333]
[{"$f":"'PO Attainment'!A72","v":44},{"$f":"'PO Attainment'!B72","v":"1GV19EC052"},{"$f":"'PO Attainment'!C72","v":"VARADARAJU D"},{"$f":"'T1'!F53","v":33.200000000000003},{"$f":"'T2'!F53","v":38},{"$f":"'T3'!F53","v":32.400000000000006},34.533333333333339]
[{"$f":"'PO Attainment'!A73","v":45},{"$f":"'PO Attainment'!B73","v":"1GV19EC053"},{"$f":"'PO Attainment'!C73","v":"VIDHYA G N"},{"$f":"'T1'!F54","v":36.400000000000006},{"$f":"'T2'!F54","v":43.6},{"$f":"'T3'!F54","v":39.6},39.866666666666667]
[{"$f":"'PO Attainment'!A74","v":46},{"$f":"'PO Attainment'!B74","v":"1GV19EC054"},{"$f":"'PO Attainment'!C74","v":"VIDYA M"},{"$f":"'T1'!F55","v":34},{"$f":"'T2'!F55","v":42},{"$f":"'T3'!F55","v":18},31.333333333333332]
[{"$f":"'PO Attainment'!A75","v":47},{"$f":"'PO Attainment'!B75","v":"1GV19EC057"},{"$f":"'PO Attainment'!C75","v":"GRITA A"},{"$f":"'T1'!F56","v":46.800000000000004},{"$f":"'T2'!F56","v":47.6},{"$f":"'T3'!F56","v":49.2},47.866666666666674]
[{"$f":"'PO Attainment'!A76","v":48},{"$f":"'PO Attainment'!B76","v":"1GV19EC058"},{"$f":"'PO Attainment'!C76","v":"TABREZ AHMED N"},{"$f":"'T1'!F57","v":41.2},{"$f":"'T2'!F57","v":22},{"$f":"'T3'!F57","v":35.6},32.933333333333337]
[{"$f":"'PO Attainment'!A77","v":49},{"$f":"'PO Attainment'!B77","v":"1GV18EC012"},{"$f":"'PO Attainment'!C77","v":"KENNETH BENNY J"},{"$f":"'T1'!F58","v":26.8},{"$f":"'T2'!F58","v":42},{"$f":"'T3'!F58","v":21.200000000000003},30]
[{"$f":"'PO Attainment'!A78","v":50},{"$f":"'PO Attainment'!B78","v":"1GV18EC013"},{"$f":"'PO Attainment'!C78","v":"KEZIA R"},{"$f":"'T1'!F59","v":38},{"$f":"'T2'!F59","v":43.6},{"$f":"'T3'!F59","v":25.200000000000003},35.6]
[{"$f":"'PO Attainment'!A79","v":51},{"$f":"'PO Attainment'!B79","v":"1GV18EC022"},{"$f":"'PO Attainment'!C79","v":"PAVITHRA. P   "},{"$f":"'T1'!F60","v":44.4},{"$f":"'T2'!F60","v":29.200000000000003},{"$f":"'T3'!F60","v":43.6},39.066666666666663]
[{"$f":"'PO Attainment'!A80","v":52},{"$f":"'PO Attainment'!B80","v":"1GV18EC033"},{"$f":"'PO Attainment'!C80","v":"SHREEJA R"},{"$f":"'T1'!F61","v":40.400000000000006},{"$f":"'T2'!F61","v":43.6},{"$f":"'T3'!F61","v":22.8},35.6]
[{"$f":"'PO Attainment'!A81","v":53},{"$f":"'PO Attainment'!B81","v":"1GV18EC035"},{"$f":"'PO Attainment'!C81","v":"SIDDHITHA S"},{"$f":"'T1'!F62","v":38.799999999999997},{"$f":"'T2'!F62","v":43.6},{"$f":"'T3'!F62","v":17.2},33.200000000000003]
[{"$f":"'PO Attainment'!A82","v":54},{"$f":"'PO Attainment'!B82","v":"1GV17EC047"},{"$f":"'PO Attainment'!C82","v":"TEJESASHWSI ONGOLE Y"},{"$f":"'T1'!F63","v":22},{"$f":"'T2'!F63","v":26},{"$f":"'T3'!F63","v":10},19.333333333333332]
[{"$f":"'PO Attainment'!A83","v":55},{"$f":"'PO Attainment'!B83","v":"1GV16EC038"},{"$f":"'PO Attainment'!C83","v":"RACHANA K R"},{"$f":"'T1'!F64","v":22},{"$f":"'T2'!F64","v":28.400000000000002},{"$f":"'T3'!F64","v":10},20.133333333333336]
[{"$f":"'PO Attainment'!A84","v":56},{"$f":"'PO Attainment'!B84","v":"1GV20EC400"},{"$f":"'PO Attainment'!C84","v":"ARUN KUMAR N"},{"$f":"'T1'!F65","v":10},{"$f":"'T2'!F65","v":10},{"$f":"'T3'!F65","v":10},10]
[{"$f":"'PO Attainment'!A85","v":57},{"$f":"'PO Attainment'!B85","v":"1GV20EC401"},{"$f":"'PO Attainment'!C85","v":"BHUVANESH KUMAR U"},{"$f":"'T1'!F66","v":27.6},{"$f":"'T2'!F66","v":38},{"$f":"'T3'!F66","v":10},25.2]
[{"$f":"'PO Attainment'!A86","v":58},{"$f":"'PO Attainment'!B86","v":"1GV20EC402"},{"$f":"'PO Attainment'!C86","v":"CHANDRALEKHA M"},{"$f":"'T1'!F67","v":37.200000000000003},{"$f":"'T2'!F67","v":43.6},{"$f":"'T3'!F67","v":33.200000000000003},38.000000000000007]
[{"$f":"'PO Attainment'!A87","v":59},{"$f":"'PO Attainment'!B87","v":"1GV20EC404"},{"$f":"'PO Attainment'!C87","v":"VEDASHREE GM"},{"$f":"'T1'!F68","v":37.200000000000003},{"$f":"'T2'!F68","v":45.2},{"$f":"'T3'!F68","v":28.400000000000002},36.933333333333337]
[{"$f":"'PO Attainment'!A88","v":60},{"$f":"'PO Attainment'!B88","v":"1GV20EC405"},{"$f":"'PO Attainment'!C88","v":"VIJAYKUMAR R"},{"$f":"'T1'!F69","v":30.8},{"$f":"'T2'!F69","v":34},{"$f":"'T3'!F69","v":26.8},30.533333333333331]
[]
[]
[]
["Course Coordinator"]

{"sheet":"Imp. Analysis","index":12,"n_rows":21,"n_cols":15,"rows_kept":21,"cut":false,"hidden":false,"merged":[[20,0,20,8],[4,0,4,8],[7,7,7,8],[8,7,8,8],[9,7,9,8],[8,2,8,3],[9,2,9,4],[12,5,12,8],[13,5,16,8],[13,4,16,4],[13,3,16,3],[12,0,12,1],[13,0,16,1],[13,2,16,2],[10,0,10,3],[7,0,7,1],[8,0,8,1],[9,0,9,1],[5,0,5,8],[6,0,6,8],[8,5,8,6],[9,5,9,6]]}
[]
[]
[]
[]
["F.No:DrTTIT/IQAC/2020-21/066EP"]
[{"$f":"\"Department of \" &'PO Attainment'!C6 &\" Engineering\"","v":"Department of Electronics & Communication Engineering"}]
["Impact Analysis"]
[null,null,null,null,null,null,"Date:"]
["Semester:",null,{"$f":"'PO Attainment'!C5","v":"IV"},null,null,"Academic Year:",null,{"$f":"'PO Attainment'!C8","v":"2020-21"}]
["Course:",null,{"$f":"'PO Attainment'!C7","v":"SIGNALS AND SYSTEMS"},null,null,"Course Code:",null,{"$f":"'PO Attainment'!S7","v":"18EC45"}]
["Total No of Students in the Class:"]
[]
["IA Test",null,"IA1","IA2","IA3","Remarks"]
["No. of Students below 40%",null,{"$f":"T1A!C18","v":2},{"$f":"'T2A '!C18","v":2},{"$f":"'T3A '!C18","v":7}]
[null,null,null,null,null,null,null,null,null,null,null,null,null,"IA1",{"$f":"C14","v":2}]
[null,null,null,null,null,null,null,null,null,null,null,null,null,"IA2",{"$f":"D14","v":2}]
[null,null,null,null,null,null,null,null,null,null,null,null,null,"IA3",{"$f":"E14","v":7}]
[]
[]
[]
["Course Instructor                                                                                             HOD"]